BEGIN:VCALENDAR
VERSION:2.0
PRODID:-//Charisma Christian Ministries - ECPv5.16.3.1//NONSGML v1.0//EN
CALSCALE:GREGORIAN
METHOD:PUBLISH
X-ORIGINAL-URL:https://www.charisma.org.nz
X-WR-CALDESC:Events for Charisma Christian Ministries
REFRESH-INTERVAL;VALUE=DURATION:PT1H
X-Robots-Tag:noindex
X-PUBLISHED-TTL:PT1H
BEGIN:VTIMEZONE
TZID:Pacific/Auckland
BEGIN:STANDARD
TZOFFSETFROM:+1300
TZOFFSETTO:+1200
TZNAME:NZST
DTSTART:20270403T140000
END:STANDARD
BEGIN:DAYLIGHT
TZOFFSETFROM:+1200
TZOFFSETTO:+1300
TZNAME:NZDT
DTSTART:20270925T140000
END:DAYLIGHT
BEGIN:STANDARD
TZOFFSETFROM:+1300
TZOFFSETTO:+1200
TZNAME:NZST
DTSTART:20280401T140000
END:STANDARD
BEGIN:DAYLIGHT
TZOFFSETFROM:+1200
TZOFFSETTO:+1300
TZNAME:NZDT
DTSTART:20280923T140000
END:DAYLIGHT
END:VTIMEZONE
BEGIN:VEVENT
DTSTART;TZID=Pacific/Auckland:20271109T190000
DTEND;TZID=Pacific/Auckland:20271109T210000
DTSTAMP:20260425T044404
CREATED:20150331T010205Z
LAST-MODIFIED:20150331T010205Z
UID:2652-1825786800-1825794000@www.charisma.org.nz
SUMMARY:Charisma Healing & Deliverance Meeting
DESCRIPTION:
URL:https://www.charisma.org.nz/event/charisma-meeting-5/2027-11-09/
LOCATION:The Salvation Army Centre\, 18 Allright Place\, Mt Wellington\, Auckland\, Auckland
CATEGORIES:Weekly Meeting
GEO:-36.9111846;174.8482583
X-APPLE-STRUCTURED-LOCATION;VALUE=URI;X-ADDRESS=The Salvation Army Centre 18 Allright Place Mt Wellington Auckland Auckland;X-APPLE-RADIUS=500;X-TITLE=18 Allright Place\, Mt Wellington:geo:174.8482583,-36.9111846
END:VEVENT
BEGIN:VEVENT
DTSTART;TZID=Pacific/Auckland:20271116T190000
DTEND;TZID=Pacific/Auckland:20271116T210000
DTSTAMP:20260425T044404
CREATED:20150331T010205Z
LAST-MODIFIED:20150331T010205Z
UID:2653-1826391600-1826398800@www.charisma.org.nz
SUMMARY:Charisma Healing & Deliverance Meeting
DESCRIPTION:
URL:https://www.charisma.org.nz/event/charisma-meeting-5/2027-11-16/
LOCATION:The Salvation Army Centre\, 18 Allright Place\, Mt Wellington\, Auckland\, Auckland
CATEGORIES:Weekly Meeting
GEO:-36.9111846;174.8482583
X-APPLE-STRUCTURED-LOCATION;VALUE=URI;X-ADDRESS=The Salvation Army Centre 18 Allright Place Mt Wellington Auckland Auckland;X-APPLE-RADIUS=500;X-TITLE=18 Allright Place\, Mt Wellington:geo:174.8482583,-36.9111846
END:VEVENT
BEGIN:VEVENT
DTSTART;TZID=Pacific/Auckland:20271123T190000
DTEND;TZID=Pacific/Auckland:20271123T210000
DTSTAMP:20260425T044404
CREATED:20150331T010205Z
LAST-MODIFIED:20150331T010205Z
UID:2654-1826996400-1827003600@www.charisma.org.nz
SUMMARY:Charisma Healing & Deliverance Meeting
DESCRIPTION:
URL:https://www.charisma.org.nz/event/charisma-meeting-5/2027-11-23/
LOCATION:The Salvation Army Centre\, 18 Allright Place\, Mt Wellington\, Auckland\, Auckland
CATEGORIES:Weekly Meeting
GEO:-36.9111846;174.8482583
X-APPLE-STRUCTURED-LOCATION;VALUE=URI;X-ADDRESS=The Salvation Army Centre 18 Allright Place Mt Wellington Auckland Auckland;X-APPLE-RADIUS=500;X-TITLE=18 Allright Place\, Mt Wellington:geo:174.8482583,-36.9111846
END:VEVENT
BEGIN:VEVENT
DTSTART;TZID=Pacific/Auckland:20271130T190000
DTEND;TZID=Pacific/Auckland:20271130T210000
DTSTAMP:20260425T044404
CREATED:20150331T010205Z
LAST-MODIFIED:20150331T010205Z
UID:2655-1827601200-1827608400@www.charisma.org.nz
SUMMARY:Charisma Healing & Deliverance Meeting
DESCRIPTION:
URL:https://www.charisma.org.nz/event/charisma-meeting-5/2027-11-30/
LOCATION:The Salvation Army Centre\, 18 Allright Place\, Mt Wellington\, Auckland\, Auckland
CATEGORIES:Weekly Meeting
GEO:-36.9111846;174.8482583
X-APPLE-STRUCTURED-LOCATION;VALUE=URI;X-ADDRESS=The Salvation Army Centre 18 Allright Place Mt Wellington Auckland Auckland;X-APPLE-RADIUS=500;X-TITLE=18 Allright Place\, Mt Wellington:geo:174.8482583,-36.9111846
END:VEVENT
BEGIN:VEVENT
DTSTART;TZID=Pacific/Auckland:20271207T190000
DTEND;TZID=Pacific/Auckland:20271207T210000
DTSTAMP:20260425T044404
CREATED:20150331T010205Z
LAST-MODIFIED:20150331T010205Z
UID:2656-1828206000-1828213200@www.charisma.org.nz
SUMMARY:Charisma Healing & Deliverance Meeting
DESCRIPTION:
URL:https://www.charisma.org.nz/event/charisma-meeting-5/2027-12-07/
LOCATION:The Salvation Army Centre\, 18 Allright Place\, Mt Wellington\, Auckland\, Auckland
CATEGORIES:Weekly Meeting
GEO:-36.9111846;174.8482583
X-APPLE-STRUCTURED-LOCATION;VALUE=URI;X-ADDRESS=The Salvation Army Centre 18 Allright Place Mt Wellington Auckland Auckland;X-APPLE-RADIUS=500;X-TITLE=18 Allright Place\, Mt Wellington:geo:174.8482583,-36.9111846
END:VEVENT
BEGIN:VEVENT
DTSTART;TZID=Pacific/Auckland:20271214T190000
DTEND;TZID=Pacific/Auckland:20271214T210000
DTSTAMP:20260425T044404
CREATED:20150331T010205Z
LAST-MODIFIED:20150331T010205Z
UID:2657-1828810800-1828818000@www.charisma.org.nz
SUMMARY:Charisma Healing & Deliverance Meeting
DESCRIPTION:
URL:https://www.charisma.org.nz/event/charisma-meeting-5/2027-12-14/
LOCATION:The Salvation Army Centre\, 18 Allright Place\, Mt Wellington\, Auckland\, Auckland
CATEGORIES:Weekly Meeting
GEO:-36.9111846;174.8482583
X-APPLE-STRUCTURED-LOCATION;VALUE=URI;X-ADDRESS=The Salvation Army Centre 18 Allright Place Mt Wellington Auckland Auckland;X-APPLE-RADIUS=500;X-TITLE=18 Allright Place\, Mt Wellington:geo:174.8482583,-36.9111846
END:VEVENT
BEGIN:VEVENT
DTSTART;TZID=Pacific/Auckland:20271221T190000
DTEND;TZID=Pacific/Auckland:20271221T210000
DTSTAMP:20260425T044404
CREATED:20150331T010205Z
LAST-MODIFIED:20150331T010205Z
UID:2658-1829415600-1829422800@www.charisma.org.nz
SUMMARY:Charisma Healing & Deliverance Meeting
DESCRIPTION:
URL:https://www.charisma.org.nz/event/charisma-meeting-5/2027-12-21/
LOCATION:The Salvation Army Centre\, 18 Allright Place\, Mt Wellington\, Auckland\, Auckland
CATEGORIES:Weekly Meeting
GEO:-36.9111846;174.8482583
X-APPLE-STRUCTURED-LOCATION;VALUE=URI;X-ADDRESS=The Salvation Army Centre 18 Allright Place Mt Wellington Auckland Auckland;X-APPLE-RADIUS=500;X-TITLE=18 Allright Place\, Mt Wellington:geo:174.8482583,-36.9111846
END:VEVENT
BEGIN:VEVENT
DTSTART;TZID=Pacific/Auckland:20271228T190000
DTEND;TZID=Pacific/Auckland:20271228T210000
DTSTAMP:20260425T044404
CREATED:20150331T010205Z
LAST-MODIFIED:20150331T010205Z
UID:2659-1830020400-1830027600@www.charisma.org.nz
SUMMARY:Charisma Healing & Deliverance Meeting
DESCRIPTION:
URL:https://www.charisma.org.nz/event/charisma-meeting-5/2027-12-28/
LOCATION:The Salvation Army Centre\, 18 Allright Place\, Mt Wellington\, Auckland\, Auckland
CATEGORIES:Weekly Meeting
GEO:-36.9111846;174.8482583
X-APPLE-STRUCTURED-LOCATION;VALUE=URI;X-ADDRESS=The Salvation Army Centre 18 Allright Place Mt Wellington Auckland Auckland;X-APPLE-RADIUS=500;X-TITLE=18 Allright Place\, Mt Wellington:geo:174.8482583,-36.9111846
END:VEVENT
BEGIN:VEVENT
DTSTART;TZID=Pacific/Auckland:20280104T190000
DTEND;TZID=Pacific/Auckland:20280104T210000
DTSTAMP:20260425T044404
CREATED:20150331T010205Z
LAST-MODIFIED:20150331T010205Z
UID:2660-1830625200-1830632400@www.charisma.org.nz
SUMMARY:Charisma Healing & Deliverance Meeting
DESCRIPTION:
URL:https://www.charisma.org.nz/event/charisma-meeting-5/2028-01-04/
LOCATION:The Salvation Army Centre\, 18 Allright Place\, Mt Wellington\, Auckland\, Auckland
CATEGORIES:Weekly Meeting
GEO:-36.9111846;174.8482583
X-APPLE-STRUCTURED-LOCATION;VALUE=URI;X-ADDRESS=The Salvation Army Centre 18 Allright Place Mt Wellington Auckland Auckland;X-APPLE-RADIUS=500;X-TITLE=18 Allright Place\, Mt Wellington:geo:174.8482583,-36.9111846
END:VEVENT
BEGIN:VEVENT
DTSTART;TZID=Pacific/Auckland:20280111T190000
DTEND;TZID=Pacific/Auckland:20280111T210000
DTSTAMP:20260425T044404
CREATED:20150331T010205Z
LAST-MODIFIED:20150331T010205Z
UID:2661-1831230000-1831237200@www.charisma.org.nz
SUMMARY:Charisma Healing & Deliverance Meeting
DESCRIPTION:
URL:https://www.charisma.org.nz/event/charisma-meeting-5/2028-01-11/
LOCATION:The Salvation Army Centre\, 18 Allright Place\, Mt Wellington\, Auckland\, Auckland
CATEGORIES:Weekly Meeting
GEO:-36.9111846;174.8482583
X-APPLE-STRUCTURED-LOCATION;VALUE=URI;X-ADDRESS=The Salvation Army Centre 18 Allright Place Mt Wellington Auckland Auckland;X-APPLE-RADIUS=500;X-TITLE=18 Allright Place\, Mt Wellington:geo:174.8482583,-36.9111846
END:VEVENT
BEGIN:VEVENT
DTSTART;TZID=Pacific/Auckland:20280118T190000
DTEND;TZID=Pacific/Auckland:20280118T210000
DTSTAMP:20260425T044404
CREATED:20150331T010205Z
LAST-MODIFIED:20150331T010205Z
UID:2662-1831834800-1831842000@www.charisma.org.nz
SUMMARY:Charisma Healing & Deliverance Meeting
DESCRIPTION:
URL:https://www.charisma.org.nz/event/charisma-meeting-5/2028-01-18/
LOCATION:The Salvation Army Centre\, 18 Allright Place\, Mt Wellington\, Auckland\, Auckland
CATEGORIES:Weekly Meeting
GEO:-36.9111846;174.8482583
X-APPLE-STRUCTURED-LOCATION;VALUE=URI;X-ADDRESS=The Salvation Army Centre 18 Allright Place Mt Wellington Auckland Auckland;X-APPLE-RADIUS=500;X-TITLE=18 Allright Place\, Mt Wellington:geo:174.8482583,-36.9111846
END:VEVENT
BEGIN:VEVENT
DTSTART;TZID=Pacific/Auckland:20280125T190000
DTEND;TZID=Pacific/Auckland:20280125T210000
DTSTAMP:20260425T044404
CREATED:20150331T010205Z
LAST-MODIFIED:20150331T010205Z
UID:2663-1832439600-1832446800@www.charisma.org.nz
SUMMARY:Charisma Healing & Deliverance Meeting
DESCRIPTION:
URL:https://www.charisma.org.nz/event/charisma-meeting-5/2028-01-25/
LOCATION:The Salvation Army Centre\, 18 Allright Place\, Mt Wellington\, Auckland\, Auckland
CATEGORIES:Weekly Meeting
GEO:-36.9111846;174.8482583
X-APPLE-STRUCTURED-LOCATION;VALUE=URI;X-ADDRESS=The Salvation Army Centre 18 Allright Place Mt Wellington Auckland Auckland;X-APPLE-RADIUS=500;X-TITLE=18 Allright Place\, Mt Wellington:geo:174.8482583,-36.9111846
END:VEVENT
BEGIN:VEVENT
DTSTART;TZID=Pacific/Auckland:20280201T190000
DTEND;TZID=Pacific/Auckland:20280201T210000
DTSTAMP:20260425T044404
CREATED:20150331T010205Z
LAST-MODIFIED:20150331T010205Z
UID:2664-1833044400-1833051600@www.charisma.org.nz
SUMMARY:Charisma Healing & Deliverance Meeting
DESCRIPTION:
URL:https://www.charisma.org.nz/event/charisma-meeting-5/2028-02-01/
LOCATION:The Salvation Army Centre\, 18 Allright Place\, Mt Wellington\, Auckland\, Auckland
CATEGORIES:Weekly Meeting
GEO:-36.9111846;174.8482583
X-APPLE-STRUCTURED-LOCATION;VALUE=URI;X-ADDRESS=The Salvation Army Centre 18 Allright Place Mt Wellington Auckland Auckland;X-APPLE-RADIUS=500;X-TITLE=18 Allright Place\, Mt Wellington:geo:174.8482583,-36.9111846
END:VEVENT
BEGIN:VEVENT
DTSTART;TZID=Pacific/Auckland:20280208T190000
DTEND;TZID=Pacific/Auckland:20280208T210000
DTSTAMP:20260425T044404
CREATED:20150331T010205Z
LAST-MODIFIED:20150331T010205Z
UID:2665-1833649200-1833656400@www.charisma.org.nz
SUMMARY:Charisma Healing & Deliverance Meeting
DESCRIPTION:
URL:https://www.charisma.org.nz/event/charisma-meeting-5/2028-02-08/
LOCATION:The Salvation Army Centre\, 18 Allright Place\, Mt Wellington\, Auckland\, Auckland
CATEGORIES:Weekly Meeting
GEO:-36.9111846;174.8482583
X-APPLE-STRUCTURED-LOCATION;VALUE=URI;X-ADDRESS=The Salvation Army Centre 18 Allright Place Mt Wellington Auckland Auckland;X-APPLE-RADIUS=500;X-TITLE=18 Allright Place\, Mt Wellington:geo:174.8482583,-36.9111846
END:VEVENT
BEGIN:VEVENT
DTSTART;TZID=Pacific/Auckland:20280215T190000
DTEND;TZID=Pacific/Auckland:20280215T210000
DTSTAMP:20260425T044404
CREATED:20150331T010205Z
LAST-MODIFIED:20150331T010205Z
UID:2666-1834254000-1834261200@www.charisma.org.nz
SUMMARY:Charisma Healing & Deliverance Meeting
DESCRIPTION:
URL:https://www.charisma.org.nz/event/charisma-meeting-5/2028-02-15/
LOCATION:The Salvation Army Centre\, 18 Allright Place\, Mt Wellington\, Auckland\, Auckland
CATEGORIES:Weekly Meeting
GEO:-36.9111846;174.8482583
X-APPLE-STRUCTURED-LOCATION;VALUE=URI;X-ADDRESS=The Salvation Army Centre 18 Allright Place Mt Wellington Auckland Auckland;X-APPLE-RADIUS=500;X-TITLE=18 Allright Place\, Mt Wellington:geo:174.8482583,-36.9111846
END:VEVENT
BEGIN:VEVENT
DTSTART;TZID=Pacific/Auckland:20280222T190000
DTEND;TZID=Pacific/Auckland:20280222T210000
DTSTAMP:20260425T044404
CREATED:20150331T010205Z
LAST-MODIFIED:20150331T010205Z
UID:2667-1834858800-1834866000@www.charisma.org.nz
SUMMARY:Charisma Healing & Deliverance Meeting
DESCRIPTION:
URL:https://www.charisma.org.nz/event/charisma-meeting-5/2028-02-22/
LOCATION:The Salvation Army Centre\, 18 Allright Place\, Mt Wellington\, Auckland\, Auckland
CATEGORIES:Weekly Meeting
GEO:-36.9111846;174.8482583
X-APPLE-STRUCTURED-LOCATION;VALUE=URI;X-ADDRESS=The Salvation Army Centre 18 Allright Place Mt Wellington Auckland Auckland;X-APPLE-RADIUS=500;X-TITLE=18 Allright Place\, Mt Wellington:geo:174.8482583,-36.9111846
END:VEVENT
BEGIN:VEVENT
DTSTART;TZID=Pacific/Auckland:20280229T190000
DTEND;TZID=Pacific/Auckland:20280229T210000
DTSTAMP:20260425T044404
CREATED:20150331T010205Z
LAST-MODIFIED:20150331T010205Z
UID:2668-1835463600-1835470800@www.charisma.org.nz
SUMMARY:Charisma Healing & Deliverance Meeting
DESCRIPTION:
URL:https://www.charisma.org.nz/event/charisma-meeting-5/2028-02-29/
LOCATION:The Salvation Army Centre\, 18 Allright Place\, Mt Wellington\, Auckland\, Auckland
CATEGORIES:Weekly Meeting
GEO:-36.9111846;174.8482583
X-APPLE-STRUCTURED-LOCATION;VALUE=URI;X-ADDRESS=The Salvation Army Centre 18 Allright Place Mt Wellington Auckland Auckland;X-APPLE-RADIUS=500;X-TITLE=18 Allright Place\, Mt Wellington:geo:174.8482583,-36.9111846
END:VEVENT
BEGIN:VEVENT
DTSTART;TZID=Pacific/Auckland:20280307T190000
DTEND;TZID=Pacific/Auckland:20280307T210000
DTSTAMP:20260425T044404
CREATED:20150331T010205Z
LAST-MODIFIED:20150331T010205Z
UID:2669-1836068400-1836075600@www.charisma.org.nz
SUMMARY:Charisma Healing & Deliverance Meeting
DESCRIPTION:
URL:https://www.charisma.org.nz/event/charisma-meeting-5/2028-03-07/
LOCATION:The Salvation Army Centre\, 18 Allright Place\, Mt Wellington\, Auckland\, Auckland
CATEGORIES:Weekly Meeting
GEO:-36.9111846;174.8482583
X-APPLE-STRUCTURED-LOCATION;VALUE=URI;X-ADDRESS=The Salvation Army Centre 18 Allright Place Mt Wellington Auckland Auckland;X-APPLE-RADIUS=500;X-TITLE=18 Allright Place\, Mt Wellington:geo:174.8482583,-36.9111846
END:VEVENT
BEGIN:VEVENT
DTSTART;TZID=Pacific/Auckland:20280314T190000
DTEND;TZID=Pacific/Auckland:20280314T210000
DTSTAMP:20260425T044404
CREATED:20150331T010205Z
LAST-MODIFIED:20150331T010205Z
UID:2671-1836673200-1836680400@www.charisma.org.nz
SUMMARY:Charisma Healing & Deliverance Meeting
DESCRIPTION:
URL:https://www.charisma.org.nz/event/charisma-meeting-5/2028-03-14/
LOCATION:The Salvation Army Centre\, 18 Allright Place\, Mt Wellington\, Auckland\, Auckland
CATEGORIES:Weekly Meeting
GEO:-36.9111846;174.8482583
X-APPLE-STRUCTURED-LOCATION;VALUE=URI;X-ADDRESS=The Salvation Army Centre 18 Allright Place Mt Wellington Auckland Auckland;X-APPLE-RADIUS=500;X-TITLE=18 Allright Place\, Mt Wellington:geo:174.8482583,-36.9111846
END:VEVENT
BEGIN:VEVENT
DTSTART;TZID=Pacific/Auckland:20280321T190000
DTEND;TZID=Pacific/Auckland:20280321T210000
DTSTAMP:20260425T044404
CREATED:20150331T010205Z
LAST-MODIFIED:20150331T010205Z
UID:2672-1837278000-1837285200@www.charisma.org.nz
SUMMARY:Charisma Healing & Deliverance Meeting
DESCRIPTION:
URL:https://www.charisma.org.nz/event/charisma-meeting-5/2028-03-21/
LOCATION:The Salvation Army Centre\, 18 Allright Place\, Mt Wellington\, Auckland\, Auckland
CATEGORIES:Weekly Meeting
GEO:-36.9111846;174.8482583
X-APPLE-STRUCTURED-LOCATION;VALUE=URI;X-ADDRESS=The Salvation Army Centre 18 Allright Place Mt Wellington Auckland Auckland;X-APPLE-RADIUS=500;X-TITLE=18 Allright Place\, Mt Wellington:geo:174.8482583,-36.9111846
END:VEVENT
BEGIN:VEVENT
DTSTART;TZID=Pacific/Auckland:20280328T190000
DTEND;TZID=Pacific/Auckland:20280328T210000
DTSTAMP:20260425T044404
CREATED:20150331T010205Z
LAST-MODIFIED:20150331T010205Z
UID:2674-1837882800-1837890000@www.charisma.org.nz
SUMMARY:Charisma Healing & Deliverance Meeting
DESCRIPTION:
URL:https://www.charisma.org.nz/event/charisma-meeting-5/2028-03-28/
LOCATION:The Salvation Army Centre\, 18 Allright Place\, Mt Wellington\, Auckland\, Auckland
CATEGORIES:Weekly Meeting
GEO:-36.9111846;174.8482583
X-APPLE-STRUCTURED-LOCATION;VALUE=URI;X-ADDRESS=The Salvation Army Centre 18 Allright Place Mt Wellington Auckland Auckland;X-APPLE-RADIUS=500;X-TITLE=18 Allright Place\, Mt Wellington:geo:174.8482583,-36.9111846
END:VEVENT
BEGIN:VEVENT
DTSTART;TZID=Pacific/Auckland:20280404T190000
DTEND;TZID=Pacific/Auckland:20280404T210000
DTSTAMP:20260425T044404
CREATED:20150331T010205Z
LAST-MODIFIED:20150331T010205Z
UID:2675-1838487600-1838494800@www.charisma.org.nz
SUMMARY:Charisma Healing & Deliverance Meeting
DESCRIPTION:
URL:https://www.charisma.org.nz/event/charisma-meeting-5/2028-04-04/
LOCATION:The Salvation Army Centre\, 18 Allright Place\, Mt Wellington\, Auckland\, Auckland
CATEGORIES:Weekly Meeting
GEO:-36.9111846;174.8482583
X-APPLE-STRUCTURED-LOCATION;VALUE=URI;X-ADDRESS=The Salvation Army Centre 18 Allright Place Mt Wellington Auckland Auckland;X-APPLE-RADIUS=500;X-TITLE=18 Allright Place\, Mt Wellington:geo:174.8482583,-36.9111846
END:VEVENT
BEGIN:VEVENT
DTSTART;TZID=Pacific/Auckland:20280411T190000
DTEND;TZID=Pacific/Auckland:20280411T210000
DTSTAMP:20260425T044404
CREATED:20150331T010205Z
LAST-MODIFIED:20150331T010205Z
UID:2676-1839092400-1839099600@www.charisma.org.nz
SUMMARY:Charisma Healing & Deliverance Meeting
DESCRIPTION:
URL:https://www.charisma.org.nz/event/charisma-meeting-5/2028-04-11/
LOCATION:The Salvation Army Centre\, 18 Allright Place\, Mt Wellington\, Auckland\, Auckland
CATEGORIES:Weekly Meeting
GEO:-36.9111846;174.8482583
X-APPLE-STRUCTURED-LOCATION;VALUE=URI;X-ADDRESS=The Salvation Army Centre 18 Allright Place Mt Wellington Auckland Auckland;X-APPLE-RADIUS=500;X-TITLE=18 Allright Place\, Mt Wellington:geo:174.8482583,-36.9111846
END:VEVENT
BEGIN:VEVENT
DTSTART;TZID=Pacific/Auckland:20280418T190000
DTEND;TZID=Pacific/Auckland:20280418T210000
DTSTAMP:20260425T044404
CREATED:20150331T010205Z
LAST-MODIFIED:20150331T010205Z
UID:2677-1839697200-1839704400@www.charisma.org.nz
SUMMARY:Charisma Healing & Deliverance Meeting
DESCRIPTION:
URL:https://www.charisma.org.nz/event/charisma-meeting-5/2028-04-18/
LOCATION:The Salvation Army Centre\, 18 Allright Place\, Mt Wellington\, Auckland\, Auckland
CATEGORIES:Weekly Meeting
GEO:-36.9111846;174.8482583
X-APPLE-STRUCTURED-LOCATION;VALUE=URI;X-ADDRESS=The Salvation Army Centre 18 Allright Place Mt Wellington Auckland Auckland;X-APPLE-RADIUS=500;X-TITLE=18 Allright Place\, Mt Wellington:geo:174.8482583,-36.9111846
END:VEVENT
END:VCALENDAR