BEGIN:VCALENDAR
VERSION:2.0
PRODID:-//Charisma Christian Ministries - ECPv5.16.3.1//NONSGML v1.0//EN
CALSCALE:GREGORIAN
METHOD:PUBLISH
X-ORIGINAL-URL:https://www.charisma.org.nz
X-WR-CALDESC:Events for Charisma Christian Ministries
REFRESH-INTERVAL;VALUE=DURATION:PT1H
X-Robots-Tag:noindex
X-PUBLISHED-TTL:PT1H
BEGIN:VTIMEZONE
TZID:Pacific/Auckland
BEGIN:STANDARD
TZOFFSETFROM:+1300
TZOFFSETTO:+1200
TZNAME:NZST
DTSTART:20260404T140000
END:STANDARD
BEGIN:DAYLIGHT
TZOFFSETFROM:+1200
TZOFFSETTO:+1300
TZNAME:NZDT
DTSTART:20260926T140000
END:DAYLIGHT
END:VTIMEZONE
BEGIN:VEVENT
DTSTART;TZID=Pacific/Auckland:20260113T190000
DTEND;TZID=Pacific/Auckland:20260113T210000
DTSTAMP:20260425T051324
CREATED:20150331T010205Z
LAST-MODIFIED:20150331T010205Z
UID:2554-1768330800-1768338000@www.charisma.org.nz
SUMMARY:Charisma Healing & Deliverance Meeting
DESCRIPTION:
URL:https://www.charisma.org.nz/event/charisma-meeting-5/2026-01-13/
LOCATION:The Salvation Army Centre\, 18 Allright Place\, Mt Wellington\, Auckland\, Auckland
CATEGORIES:Weekly Meeting
GEO:-36.9111846;174.8482583
X-APPLE-STRUCTURED-LOCATION;VALUE=URI;X-ADDRESS=The Salvation Army Centre 18 Allright Place Mt Wellington Auckland Auckland;X-APPLE-RADIUS=500;X-TITLE=18 Allright Place\, Mt Wellington:geo:174.8482583,-36.9111846
END:VEVENT
BEGIN:VEVENT
DTSTART;TZID=Pacific/Auckland:20260120T190000
DTEND;TZID=Pacific/Auckland:20260120T210000
DTSTAMP:20260425T051324
CREATED:20150331T010205Z
LAST-MODIFIED:20150331T010205Z
UID:2555-1768935600-1768942800@www.charisma.org.nz
SUMMARY:Charisma Healing & Deliverance Meeting
DESCRIPTION:
URL:https://www.charisma.org.nz/event/charisma-meeting-5/2026-01-20/
LOCATION:The Salvation Army Centre\, 18 Allright Place\, Mt Wellington\, Auckland\, Auckland
CATEGORIES:Weekly Meeting
GEO:-36.9111846;174.8482583
X-APPLE-STRUCTURED-LOCATION;VALUE=URI;X-ADDRESS=The Salvation Army Centre 18 Allright Place Mt Wellington Auckland Auckland;X-APPLE-RADIUS=500;X-TITLE=18 Allright Place\, Mt Wellington:geo:174.8482583,-36.9111846
END:VEVENT
BEGIN:VEVENT
DTSTART;TZID=Pacific/Auckland:20260127T190000
DTEND;TZID=Pacific/Auckland:20260127T210000
DTSTAMP:20260425T051324
CREATED:20150331T010205Z
LAST-MODIFIED:20150331T010205Z
UID:2556-1769540400-1769547600@www.charisma.org.nz
SUMMARY:Charisma Healing & Deliverance Meeting
DESCRIPTION:
URL:https://www.charisma.org.nz/event/charisma-meeting-5/2026-01-27/
LOCATION:The Salvation Army Centre\, 18 Allright Place\, Mt Wellington\, Auckland\, Auckland
CATEGORIES:Weekly Meeting
GEO:-36.9111846;174.8482583
X-APPLE-STRUCTURED-LOCATION;VALUE=URI;X-ADDRESS=The Salvation Army Centre 18 Allright Place Mt Wellington Auckland Auckland;X-APPLE-RADIUS=500;X-TITLE=18 Allright Place\, Mt Wellington:geo:174.8482583,-36.9111846
END:VEVENT
BEGIN:VEVENT
DTSTART;TZID=Pacific/Auckland:20260203T190000
DTEND;TZID=Pacific/Auckland:20260203T210000
DTSTAMP:20260425T051324
CREATED:20150331T010205Z
LAST-MODIFIED:20150331T010205Z
UID:2557-1770145200-1770152400@www.charisma.org.nz
SUMMARY:Charisma Healing & Deliverance Meeting
DESCRIPTION:
URL:https://www.charisma.org.nz/event/charisma-meeting-5/2026-02-03/
LOCATION:The Salvation Army Centre\, 18 Allright Place\, Mt Wellington\, Auckland\, Auckland
CATEGORIES:Weekly Meeting
GEO:-36.9111846;174.8482583
X-APPLE-STRUCTURED-LOCATION;VALUE=URI;X-ADDRESS=The Salvation Army Centre 18 Allright Place Mt Wellington Auckland Auckland;X-APPLE-RADIUS=500;X-TITLE=18 Allright Place\, Mt Wellington:geo:174.8482583,-36.9111846
END:VEVENT
BEGIN:VEVENT
DTSTART;TZID=Pacific/Auckland:20260210T190000
DTEND;TZID=Pacific/Auckland:20260210T210000
DTSTAMP:20260425T051324
CREATED:20150331T010205Z
LAST-MODIFIED:20150331T010205Z
UID:2558-1770750000-1770757200@www.charisma.org.nz
SUMMARY:Charisma Healing & Deliverance Meeting
DESCRIPTION:
URL:https://www.charisma.org.nz/event/charisma-meeting-5/2026-02-10/
LOCATION:The Salvation Army Centre\, 18 Allright Place\, Mt Wellington\, Auckland\, Auckland
CATEGORIES:Weekly Meeting
GEO:-36.9111846;174.8482583
X-APPLE-STRUCTURED-LOCATION;VALUE=URI;X-ADDRESS=The Salvation Army Centre 18 Allright Place Mt Wellington Auckland Auckland;X-APPLE-RADIUS=500;X-TITLE=18 Allright Place\, Mt Wellington:geo:174.8482583,-36.9111846
END:VEVENT
BEGIN:VEVENT
DTSTART;TZID=Pacific/Auckland:20260217T190000
DTEND;TZID=Pacific/Auckland:20260217T210000
DTSTAMP:20260425T051324
CREATED:20150331T010205Z
LAST-MODIFIED:20150331T010205Z
UID:2559-1771354800-1771362000@www.charisma.org.nz
SUMMARY:Charisma Healing & Deliverance Meeting
DESCRIPTION:
URL:https://www.charisma.org.nz/event/charisma-meeting-5/2026-02-17/
LOCATION:The Salvation Army Centre\, 18 Allright Place\, Mt Wellington\, Auckland\, Auckland
CATEGORIES:Weekly Meeting
GEO:-36.9111846;174.8482583
X-APPLE-STRUCTURED-LOCATION;VALUE=URI;X-ADDRESS=The Salvation Army Centre 18 Allright Place Mt Wellington Auckland Auckland;X-APPLE-RADIUS=500;X-TITLE=18 Allright Place\, Mt Wellington:geo:174.8482583,-36.9111846
END:VEVENT
BEGIN:VEVENT
DTSTART;TZID=Pacific/Auckland:20260224T190000
DTEND;TZID=Pacific/Auckland:20260224T210000
DTSTAMP:20260425T051324
CREATED:20150331T010205Z
LAST-MODIFIED:20150331T010205Z
UID:2560-1771959600-1771966800@www.charisma.org.nz
SUMMARY:Charisma Healing & Deliverance Meeting
DESCRIPTION:
URL:https://www.charisma.org.nz/event/charisma-meeting-5/2026-02-24/
LOCATION:The Salvation Army Centre\, 18 Allright Place\, Mt Wellington\, Auckland\, Auckland
CATEGORIES:Weekly Meeting
GEO:-36.9111846;174.8482583
X-APPLE-STRUCTURED-LOCATION;VALUE=URI;X-ADDRESS=The Salvation Army Centre 18 Allright Place Mt Wellington Auckland Auckland;X-APPLE-RADIUS=500;X-TITLE=18 Allright Place\, Mt Wellington:geo:174.8482583,-36.9111846
END:VEVENT
BEGIN:VEVENT
DTSTART;TZID=Pacific/Auckland:20260303T190000
DTEND;TZID=Pacific/Auckland:20260303T210000
DTSTAMP:20260425T051324
CREATED:20150331T010205Z
LAST-MODIFIED:20150331T010205Z
UID:2561-1772564400-1772571600@www.charisma.org.nz
SUMMARY:Charisma Healing & Deliverance Meeting
DESCRIPTION:
URL:https://www.charisma.org.nz/event/charisma-meeting-5/2026-03-03/
LOCATION:The Salvation Army Centre\, 18 Allright Place\, Mt Wellington\, Auckland\, Auckland
CATEGORIES:Weekly Meeting
GEO:-36.9111846;174.8482583
X-APPLE-STRUCTURED-LOCATION;VALUE=URI;X-ADDRESS=The Salvation Army Centre 18 Allright Place Mt Wellington Auckland Auckland;X-APPLE-RADIUS=500;X-TITLE=18 Allright Place\, Mt Wellington:geo:174.8482583,-36.9111846
END:VEVENT
BEGIN:VEVENT
DTSTART;TZID=Pacific/Auckland:20260310T190000
DTEND;TZID=Pacific/Auckland:20260310T210000
DTSTAMP:20260425T051324
CREATED:20150331T010205Z
LAST-MODIFIED:20150331T010205Z
UID:2562-1773169200-1773176400@www.charisma.org.nz
SUMMARY:Charisma Healing & Deliverance Meeting
DESCRIPTION:
URL:https://www.charisma.org.nz/event/charisma-meeting-5/2026-03-10/
LOCATION:The Salvation Army Centre\, 18 Allright Place\, Mt Wellington\, Auckland\, Auckland
CATEGORIES:Weekly Meeting
GEO:-36.9111846;174.8482583
X-APPLE-STRUCTURED-LOCATION;VALUE=URI;X-ADDRESS=The Salvation Army Centre 18 Allright Place Mt Wellington Auckland Auckland;X-APPLE-RADIUS=500;X-TITLE=18 Allright Place\, Mt Wellington:geo:174.8482583,-36.9111846
END:VEVENT
BEGIN:VEVENT
DTSTART;TZID=Pacific/Auckland:20260317T190000
DTEND;TZID=Pacific/Auckland:20260317T210000
DTSTAMP:20260425T051324
CREATED:20150331T010205Z
LAST-MODIFIED:20150331T010205Z
UID:2563-1773774000-1773781200@www.charisma.org.nz
SUMMARY:Charisma Healing & Deliverance Meeting
DESCRIPTION:
URL:https://www.charisma.org.nz/event/charisma-meeting-5/2026-03-17/
LOCATION:The Salvation Army Centre\, 18 Allright Place\, Mt Wellington\, Auckland\, Auckland
CATEGORIES:Weekly Meeting
GEO:-36.9111846;174.8482583
X-APPLE-STRUCTURED-LOCATION;VALUE=URI;X-ADDRESS=The Salvation Army Centre 18 Allright Place Mt Wellington Auckland Auckland;X-APPLE-RADIUS=500;X-TITLE=18 Allright Place\, Mt Wellington:geo:174.8482583,-36.9111846
END:VEVENT
BEGIN:VEVENT
DTSTART;TZID=Pacific/Auckland:20260324T190000
DTEND;TZID=Pacific/Auckland:20260324T210000
DTSTAMP:20260425T051324
CREATED:20150331T010205Z
LAST-MODIFIED:20150331T010205Z
UID:2564-1774378800-1774386000@www.charisma.org.nz
SUMMARY:Charisma Healing & Deliverance Meeting
DESCRIPTION:
URL:https://www.charisma.org.nz/event/charisma-meeting-5/2026-03-24/
LOCATION:The Salvation Army Centre\, 18 Allright Place\, Mt Wellington\, Auckland\, Auckland
CATEGORIES:Weekly Meeting
GEO:-36.9111846;174.8482583
X-APPLE-STRUCTURED-LOCATION;VALUE=URI;X-ADDRESS=The Salvation Army Centre 18 Allright Place Mt Wellington Auckland Auckland;X-APPLE-RADIUS=500;X-TITLE=18 Allright Place\, Mt Wellington:geo:174.8482583,-36.9111846
END:VEVENT
BEGIN:VEVENT
DTSTART;TZID=Pacific/Auckland:20260331T190000
DTEND;TZID=Pacific/Auckland:20260331T210000
DTSTAMP:20260425T051324
CREATED:20150331T010205Z
LAST-MODIFIED:20150331T010205Z
UID:2565-1774983600-1774990800@www.charisma.org.nz
SUMMARY:Charisma Healing & Deliverance Meeting
DESCRIPTION:
URL:https://www.charisma.org.nz/event/charisma-meeting-5/2026-03-31/
LOCATION:The Salvation Army Centre\, 18 Allright Place\, Mt Wellington\, Auckland\, Auckland
CATEGORIES:Weekly Meeting
GEO:-36.9111846;174.8482583
X-APPLE-STRUCTURED-LOCATION;VALUE=URI;X-ADDRESS=The Salvation Army Centre 18 Allright Place Mt Wellington Auckland Auckland;X-APPLE-RADIUS=500;X-TITLE=18 Allright Place\, Mt Wellington:geo:174.8482583,-36.9111846
END:VEVENT
BEGIN:VEVENT
DTSTART;TZID=Pacific/Auckland:20260407T190000
DTEND;TZID=Pacific/Auckland:20260407T210000
DTSTAMP:20260425T051324
CREATED:20150331T010205Z
LAST-MODIFIED:20150331T010205Z
UID:2566-1775588400-1775595600@www.charisma.org.nz
SUMMARY:Charisma Healing & Deliverance Meeting
DESCRIPTION:
URL:https://www.charisma.org.nz/event/charisma-meeting-5/2026-04-07/
LOCATION:The Salvation Army Centre\, 18 Allright Place\, Mt Wellington\, Auckland\, Auckland
CATEGORIES:Weekly Meeting
GEO:-36.9111846;174.8482583
X-APPLE-STRUCTURED-LOCATION;VALUE=URI;X-ADDRESS=The Salvation Army Centre 18 Allright Place Mt Wellington Auckland Auckland;X-APPLE-RADIUS=500;X-TITLE=18 Allright Place\, Mt Wellington:geo:174.8482583,-36.9111846
END:VEVENT
BEGIN:VEVENT
DTSTART;TZID=Pacific/Auckland:20260414T190000
DTEND;TZID=Pacific/Auckland:20260414T210000
DTSTAMP:20260425T051324
CREATED:20150331T010205Z
LAST-MODIFIED:20150331T010205Z
UID:2567-1776193200-1776200400@www.charisma.org.nz
SUMMARY:Charisma Healing & Deliverance Meeting
DESCRIPTION:
URL:https://www.charisma.org.nz/event/charisma-meeting-5/2026-04-14/
LOCATION:The Salvation Army Centre\, 18 Allright Place\, Mt Wellington\, Auckland\, Auckland
CATEGORIES:Weekly Meeting
GEO:-36.9111846;174.8482583
X-APPLE-STRUCTURED-LOCATION;VALUE=URI;X-ADDRESS=The Salvation Army Centre 18 Allright Place Mt Wellington Auckland Auckland;X-APPLE-RADIUS=500;X-TITLE=18 Allright Place\, Mt Wellington:geo:174.8482583,-36.9111846
END:VEVENT
BEGIN:VEVENT
DTSTART;TZID=Pacific/Auckland:20260421T190000
DTEND;TZID=Pacific/Auckland:20260421T210000
DTSTAMP:20260425T051324
CREATED:20150331T010205Z
LAST-MODIFIED:20150331T010205Z
UID:2568-1776798000-1776805200@www.charisma.org.nz
SUMMARY:Charisma Healing & Deliverance Meeting
DESCRIPTION:
URL:https://www.charisma.org.nz/event/charisma-meeting-5/2026-04-21/
LOCATION:The Salvation Army Centre\, 18 Allright Place\, Mt Wellington\, Auckland\, Auckland
CATEGORIES:Weekly Meeting
GEO:-36.9111846;174.8482583
X-APPLE-STRUCTURED-LOCATION;VALUE=URI;X-ADDRESS=The Salvation Army Centre 18 Allright Place Mt Wellington Auckland Auckland;X-APPLE-RADIUS=500;X-TITLE=18 Allright Place\, Mt Wellington:geo:174.8482583,-36.9111846
END:VEVENT
END:VCALENDAR