BEGIN:VCALENDAR
VERSION:2.0
PRODID:-//Charisma Christian Ministries - ECPv5.16.3.1//NONSGML v1.0//EN
CALSCALE:GREGORIAN
METHOD:PUBLISH
X-WR-CALNAME:Charisma Christian Ministries
X-ORIGINAL-URL:https://www.charisma.org.nz
X-WR-CALDESC:Events for Charisma Christian Ministries
REFRESH-INTERVAL;VALUE=DURATION:PT1H
X-Robots-Tag:noindex
X-PUBLISHED-TTL:PT1H
BEGIN:VTIMEZONE
TZID:Pacific/Auckland
BEGIN:STANDARD
TZOFFSETFROM:+1300
TZOFFSETTO:+1200
TZNAME:NZST
DTSTART:20260404T140000
END:STANDARD
BEGIN:DAYLIGHT
TZOFFSETFROM:+1200
TZOFFSETTO:+1300
TZNAME:NZDT
DTSTART:20260926T140000
END:DAYLIGHT
END:VTIMEZONE
BEGIN:VEVENT
DTSTART;TZID=Pacific/Auckland:20260421T190000
DTEND;TZID=Pacific/Auckland:20260421T210000
DTSTAMP:20260420T084127
CREATED:20150331T010205Z
LAST-MODIFIED:20150331T010205Z
UID:2568-1776798000-1776805200@www.charisma.org.nz
SUMMARY:Charisma Healing & Deliverance Meeting
DESCRIPTION:
URL:https://www.charisma.org.nz/event/charisma-meeting-5/2026-04-21/
LOCATION:The Salvation Army Centre\, 18 Allright Place\, Mt Wellington\, Auckland\, Auckland
CATEGORIES:Weekly Meeting
GEO:-36.9111846;174.8482583
X-APPLE-STRUCTURED-LOCATION;VALUE=URI;X-ADDRESS=The Salvation Army Centre 18 Allright Place Mt Wellington Auckland Auckland;X-APPLE-RADIUS=500;X-TITLE=18 Allright Place\, Mt Wellington:geo:174.8482583,-36.9111846
END:VEVENT
BEGIN:VEVENT
DTSTART;TZID=Pacific/Auckland:20260428T190000
DTEND;TZID=Pacific/Auckland:20260428T210000
DTSTAMP:20260420T084127
CREATED:20150331T010205Z
LAST-MODIFIED:20150331T010205Z
UID:2569-1777402800-1777410000@www.charisma.org.nz
SUMMARY:Charisma Healing & Deliverance Meeting
DESCRIPTION:
URL:https://www.charisma.org.nz/event/charisma-meeting-5/2026-04-28/
LOCATION:The Salvation Army Centre\, 18 Allright Place\, Mt Wellington\, Auckland\, Auckland
CATEGORIES:Weekly Meeting
GEO:-36.9111846;174.8482583
X-APPLE-STRUCTURED-LOCATION;VALUE=URI;X-ADDRESS=The Salvation Army Centre 18 Allright Place Mt Wellington Auckland Auckland;X-APPLE-RADIUS=500;X-TITLE=18 Allright Place\, Mt Wellington:geo:174.8482583,-36.9111846
END:VEVENT
BEGIN:VEVENT
DTSTART;TZID=Pacific/Auckland:20260505T190000
DTEND;TZID=Pacific/Auckland:20260505T210000
DTSTAMP:20260420T084127
CREATED:20150331T010205Z
LAST-MODIFIED:20150331T010205Z
UID:2570-1778007600-1778014800@www.charisma.org.nz
SUMMARY:Charisma Healing & Deliverance Meeting
DESCRIPTION:
URL:https://www.charisma.org.nz/event/charisma-meeting-5/2026-05-05/
LOCATION:The Salvation Army Centre\, 18 Allright Place\, Mt Wellington\, Auckland\, Auckland
CATEGORIES:Weekly Meeting
GEO:-36.9111846;174.8482583
X-APPLE-STRUCTURED-LOCATION;VALUE=URI;X-ADDRESS=The Salvation Army Centre 18 Allright Place Mt Wellington Auckland Auckland;X-APPLE-RADIUS=500;X-TITLE=18 Allright Place\, Mt Wellington:geo:174.8482583,-36.9111846
END:VEVENT
BEGIN:VEVENT
DTSTART;TZID=Pacific/Auckland:20260512T190000
DTEND;TZID=Pacific/Auckland:20260512T210000
DTSTAMP:20260420T084127
CREATED:20150331T010205Z
LAST-MODIFIED:20150331T010205Z
UID:2571-1778612400-1778619600@www.charisma.org.nz
SUMMARY:Charisma Healing & Deliverance Meeting
DESCRIPTION:
URL:https://www.charisma.org.nz/event/charisma-meeting-5/2026-05-12/
LOCATION:The Salvation Army Centre\, 18 Allright Place\, Mt Wellington\, Auckland\, Auckland
CATEGORIES:Weekly Meeting
GEO:-36.9111846;174.8482583
X-APPLE-STRUCTURED-LOCATION;VALUE=URI;X-ADDRESS=The Salvation Army Centre 18 Allright Place Mt Wellington Auckland Auckland;X-APPLE-RADIUS=500;X-TITLE=18 Allright Place\, Mt Wellington:geo:174.8482583,-36.9111846
END:VEVENT
BEGIN:VEVENT
DTSTART;TZID=Pacific/Auckland:20260519T190000
DTEND;TZID=Pacific/Auckland:20260519T210000
DTSTAMP:20260420T084127
CREATED:20150331T010205Z
LAST-MODIFIED:20150331T010205Z
UID:2572-1779217200-1779224400@www.charisma.org.nz
SUMMARY:Charisma Healing & Deliverance Meeting
DESCRIPTION:
URL:https://www.charisma.org.nz/event/charisma-meeting-5/2026-05-19/
LOCATION:The Salvation Army Centre\, 18 Allright Place\, Mt Wellington\, Auckland\, Auckland
CATEGORIES:Weekly Meeting
GEO:-36.9111846;174.8482583
X-APPLE-STRUCTURED-LOCATION;VALUE=URI;X-ADDRESS=The Salvation Army Centre 18 Allright Place Mt Wellington Auckland Auckland;X-APPLE-RADIUS=500;X-TITLE=18 Allright Place\, Mt Wellington:geo:174.8482583,-36.9111846
END:VEVENT
BEGIN:VEVENT
DTSTART;TZID=Pacific/Auckland:20260526T190000
DTEND;TZID=Pacific/Auckland:20260526T210000
DTSTAMP:20260420T084127
CREATED:20150331T010205Z
LAST-MODIFIED:20150331T010205Z
UID:2573-1779822000-1779829200@www.charisma.org.nz
SUMMARY:Charisma Healing & Deliverance Meeting
DESCRIPTION:
URL:https://www.charisma.org.nz/event/charisma-meeting-5/2026-05-26/
LOCATION:The Salvation Army Centre\, 18 Allright Place\, Mt Wellington\, Auckland\, Auckland
CATEGORIES:Weekly Meeting
GEO:-36.9111846;174.8482583
X-APPLE-STRUCTURED-LOCATION;VALUE=URI;X-ADDRESS=The Salvation Army Centre 18 Allright Place Mt Wellington Auckland Auckland;X-APPLE-RADIUS=500;X-TITLE=18 Allright Place\, Mt Wellington:geo:174.8482583,-36.9111846
END:VEVENT
BEGIN:VEVENT
DTSTART;TZID=Pacific/Auckland:20260602T190000
DTEND;TZID=Pacific/Auckland:20260602T210000
DTSTAMP:20260420T084127
CREATED:20150331T010205Z
LAST-MODIFIED:20150331T010205Z
UID:2574-1780426800-1780434000@www.charisma.org.nz
SUMMARY:Charisma Healing & Deliverance Meeting
DESCRIPTION:
URL:https://www.charisma.org.nz/event/charisma-meeting-5/2026-06-02/
LOCATION:The Salvation Army Centre\, 18 Allright Place\, Mt Wellington\, Auckland\, Auckland
CATEGORIES:Weekly Meeting
GEO:-36.9111846;174.8482583
X-APPLE-STRUCTURED-LOCATION;VALUE=URI;X-ADDRESS=The Salvation Army Centre 18 Allright Place Mt Wellington Auckland Auckland;X-APPLE-RADIUS=500;X-TITLE=18 Allright Place\, Mt Wellington:geo:174.8482583,-36.9111846
END:VEVENT
BEGIN:VEVENT
DTSTART;TZID=Pacific/Auckland:20260609T190000
DTEND;TZID=Pacific/Auckland:20260609T210000
DTSTAMP:20260420T084127
CREATED:20150331T010205Z
LAST-MODIFIED:20150331T010205Z
UID:2575-1781031600-1781038800@www.charisma.org.nz
SUMMARY:Charisma Healing & Deliverance Meeting
DESCRIPTION:
URL:https://www.charisma.org.nz/event/charisma-meeting-5/2026-06-09/
LOCATION:The Salvation Army Centre\, 18 Allright Place\, Mt Wellington\, Auckland\, Auckland
CATEGORIES:Weekly Meeting
GEO:-36.9111846;174.8482583
X-APPLE-STRUCTURED-LOCATION;VALUE=URI;X-ADDRESS=The Salvation Army Centre 18 Allright Place Mt Wellington Auckland Auckland;X-APPLE-RADIUS=500;X-TITLE=18 Allright Place\, Mt Wellington:geo:174.8482583,-36.9111846
END:VEVENT
BEGIN:VEVENT
DTSTART;TZID=Pacific/Auckland:20260616T190000
DTEND;TZID=Pacific/Auckland:20260616T210000
DTSTAMP:20260420T084127
CREATED:20150331T010205Z
LAST-MODIFIED:20150331T010205Z
UID:2576-1781636400-1781643600@www.charisma.org.nz
SUMMARY:Charisma Healing & Deliverance Meeting
DESCRIPTION:
URL:https://www.charisma.org.nz/event/charisma-meeting-5/2026-06-16/
LOCATION:The Salvation Army Centre\, 18 Allright Place\, Mt Wellington\, Auckland\, Auckland
CATEGORIES:Weekly Meeting
GEO:-36.9111846;174.8482583
X-APPLE-STRUCTURED-LOCATION;VALUE=URI;X-ADDRESS=The Salvation Army Centre 18 Allright Place Mt Wellington Auckland Auckland;X-APPLE-RADIUS=500;X-TITLE=18 Allright Place\, Mt Wellington:geo:174.8482583,-36.9111846
END:VEVENT
BEGIN:VEVENT
DTSTART;TZID=Pacific/Auckland:20260623T190000
DTEND;TZID=Pacific/Auckland:20260623T210000
DTSTAMP:20260420T084127
CREATED:20150331T010205Z
LAST-MODIFIED:20150331T010205Z
UID:2577-1782241200-1782248400@www.charisma.org.nz
SUMMARY:Charisma Healing & Deliverance Meeting
DESCRIPTION:
URL:https://www.charisma.org.nz/event/charisma-meeting-5/2026-06-23/
LOCATION:The Salvation Army Centre\, 18 Allright Place\, Mt Wellington\, Auckland\, Auckland
CATEGORIES:Weekly Meeting
GEO:-36.9111846;174.8482583
X-APPLE-STRUCTURED-LOCATION;VALUE=URI;X-ADDRESS=The Salvation Army Centre 18 Allright Place Mt Wellington Auckland Auckland;X-APPLE-RADIUS=500;X-TITLE=18 Allright Place\, Mt Wellington:geo:174.8482583,-36.9111846
END:VEVENT
BEGIN:VEVENT
DTSTART;TZID=Pacific/Auckland:20260630T190000
DTEND;TZID=Pacific/Auckland:20260630T210000
DTSTAMP:20260420T084127
CREATED:20150331T010205Z
LAST-MODIFIED:20150331T010205Z
UID:2578-1782846000-1782853200@www.charisma.org.nz
SUMMARY:Charisma Healing & Deliverance Meeting
DESCRIPTION:
URL:https://www.charisma.org.nz/event/charisma-meeting-5/2026-06-30/
LOCATION:The Salvation Army Centre\, 18 Allright Place\, Mt Wellington\, Auckland\, Auckland
CATEGORIES:Weekly Meeting
GEO:-36.9111846;174.8482583
X-APPLE-STRUCTURED-LOCATION;VALUE=URI;X-ADDRESS=The Salvation Army Centre 18 Allright Place Mt Wellington Auckland Auckland;X-APPLE-RADIUS=500;X-TITLE=18 Allright Place\, Mt Wellington:geo:174.8482583,-36.9111846
END:VEVENT
BEGIN:VEVENT
DTSTART;TZID=Pacific/Auckland:20260707T190000
DTEND;TZID=Pacific/Auckland:20260707T210000
DTSTAMP:20260420T084127
CREATED:20150331T010205Z
LAST-MODIFIED:20150331T010205Z
UID:2579-1783450800-1783458000@www.charisma.org.nz
SUMMARY:Charisma Healing & Deliverance Meeting
DESCRIPTION:
URL:https://www.charisma.org.nz/event/charisma-meeting-5/2026-07-07/
LOCATION:The Salvation Army Centre\, 18 Allright Place\, Mt Wellington\, Auckland\, Auckland
CATEGORIES:Weekly Meeting
GEO:-36.9111846;174.8482583
X-APPLE-STRUCTURED-LOCATION;VALUE=URI;X-ADDRESS=The Salvation Army Centre 18 Allright Place Mt Wellington Auckland Auckland;X-APPLE-RADIUS=500;X-TITLE=18 Allright Place\, Mt Wellington:geo:174.8482583,-36.9111846
END:VEVENT
BEGIN:VEVENT
DTSTART;TZID=Pacific/Auckland:20260714T190000
DTEND;TZID=Pacific/Auckland:20260714T210000
DTSTAMP:20260420T084127
CREATED:20150331T010205Z
LAST-MODIFIED:20150331T010205Z
UID:2580-1784055600-1784062800@www.charisma.org.nz
SUMMARY:Charisma Healing & Deliverance Meeting
DESCRIPTION:
URL:https://www.charisma.org.nz/event/charisma-meeting-5/2026-07-14/
LOCATION:The Salvation Army Centre\, 18 Allright Place\, Mt Wellington\, Auckland\, Auckland
CATEGORIES:Weekly Meeting
GEO:-36.9111846;174.8482583
X-APPLE-STRUCTURED-LOCATION;VALUE=URI;X-ADDRESS=The Salvation Army Centre 18 Allright Place Mt Wellington Auckland Auckland;X-APPLE-RADIUS=500;X-TITLE=18 Allright Place\, Mt Wellington:geo:174.8482583,-36.9111846
END:VEVENT
BEGIN:VEVENT
DTSTART;TZID=Pacific/Auckland:20260721T190000
DTEND;TZID=Pacific/Auckland:20260721T210000
DTSTAMP:20260420T084127
CREATED:20150331T010205Z
LAST-MODIFIED:20150331T010205Z
UID:2581-1784660400-1784667600@www.charisma.org.nz
SUMMARY:Charisma Healing & Deliverance Meeting
DESCRIPTION:
URL:https://www.charisma.org.nz/event/charisma-meeting-5/2026-07-21/
LOCATION:The Salvation Army Centre\, 18 Allright Place\, Mt Wellington\, Auckland\, Auckland
CATEGORIES:Weekly Meeting
GEO:-36.9111846;174.8482583
X-APPLE-STRUCTURED-LOCATION;VALUE=URI;X-ADDRESS=The Salvation Army Centre 18 Allright Place Mt Wellington Auckland Auckland;X-APPLE-RADIUS=500;X-TITLE=18 Allright Place\, Mt Wellington:geo:174.8482583,-36.9111846
END:VEVENT
BEGIN:VEVENT
DTSTART;TZID=Pacific/Auckland:20260728T190000
DTEND;TZID=Pacific/Auckland:20260728T210000
DTSTAMP:20260420T084127
CREATED:20150331T010205Z
LAST-MODIFIED:20150331T010205Z
UID:2582-1785265200-1785272400@www.charisma.org.nz
SUMMARY:Charisma Healing & Deliverance Meeting
DESCRIPTION:
URL:https://www.charisma.org.nz/event/charisma-meeting-5/2026-07-28/
LOCATION:The Salvation Army Centre\, 18 Allright Place\, Mt Wellington\, Auckland\, Auckland
CATEGORIES:Weekly Meeting
GEO:-36.9111846;174.8482583
X-APPLE-STRUCTURED-LOCATION;VALUE=URI;X-ADDRESS=The Salvation Army Centre 18 Allright Place Mt Wellington Auckland Auckland;X-APPLE-RADIUS=500;X-TITLE=18 Allright Place\, Mt Wellington:geo:174.8482583,-36.9111846
END:VEVENT
BEGIN:VEVENT
DTSTART;TZID=Pacific/Auckland:20260804T190000
DTEND;TZID=Pacific/Auckland:20260804T210000
DTSTAMP:20260420T084127
CREATED:20150331T010205Z
LAST-MODIFIED:20150331T010205Z
UID:2585-1785870000-1785877200@www.charisma.org.nz
SUMMARY:Charisma Healing & Deliverance Meeting
DESCRIPTION:
URL:https://www.charisma.org.nz/event/charisma-meeting-5/2026-08-04/
LOCATION:The Salvation Army Centre\, 18 Allright Place\, Mt Wellington\, Auckland\, Auckland
CATEGORIES:Weekly Meeting
GEO:-36.9111846;174.8482583
X-APPLE-STRUCTURED-LOCATION;VALUE=URI;X-ADDRESS=The Salvation Army Centre 18 Allright Place Mt Wellington Auckland Auckland;X-APPLE-RADIUS=500;X-TITLE=18 Allright Place\, Mt Wellington:geo:174.8482583,-36.9111846
END:VEVENT
BEGIN:VEVENT
DTSTART;TZID=Pacific/Auckland:20260811T190000
DTEND;TZID=Pacific/Auckland:20260811T210000
DTSTAMP:20260420T084127
CREATED:20150331T010205Z
LAST-MODIFIED:20150331T010205Z
UID:2586-1786474800-1786482000@www.charisma.org.nz
SUMMARY:Charisma Healing & Deliverance Meeting
DESCRIPTION:
URL:https://www.charisma.org.nz/event/charisma-meeting-5/2026-08-11/
LOCATION:The Salvation Army Centre\, 18 Allright Place\, Mt Wellington\, Auckland\, Auckland
CATEGORIES:Weekly Meeting
GEO:-36.9111846;174.8482583
X-APPLE-STRUCTURED-LOCATION;VALUE=URI;X-ADDRESS=The Salvation Army Centre 18 Allright Place Mt Wellington Auckland Auckland;X-APPLE-RADIUS=500;X-TITLE=18 Allright Place\, Mt Wellington:geo:174.8482583,-36.9111846
END:VEVENT
BEGIN:VEVENT
DTSTART;TZID=Pacific/Auckland:20260818T190000
DTEND;TZID=Pacific/Auckland:20260818T210000
DTSTAMP:20260420T084127
CREATED:20150331T010205Z
LAST-MODIFIED:20150331T010205Z
UID:2587-1787079600-1787086800@www.charisma.org.nz
SUMMARY:Charisma Healing & Deliverance Meeting
DESCRIPTION:
URL:https://www.charisma.org.nz/event/charisma-meeting-5/2026-08-18/
LOCATION:The Salvation Army Centre\, 18 Allright Place\, Mt Wellington\, Auckland\, Auckland
CATEGORIES:Weekly Meeting
GEO:-36.9111846;174.8482583
X-APPLE-STRUCTURED-LOCATION;VALUE=URI;X-ADDRESS=The Salvation Army Centre 18 Allright Place Mt Wellington Auckland Auckland;X-APPLE-RADIUS=500;X-TITLE=18 Allright Place\, Mt Wellington:geo:174.8482583,-36.9111846
END:VEVENT
BEGIN:VEVENT
DTSTART;TZID=Pacific/Auckland:20260825T190000
DTEND;TZID=Pacific/Auckland:20260825T210000
DTSTAMP:20260420T084127
CREATED:20150331T010205Z
LAST-MODIFIED:20150331T010205Z
UID:2588-1787684400-1787691600@www.charisma.org.nz
SUMMARY:Charisma Healing & Deliverance Meeting
DESCRIPTION:
URL:https://www.charisma.org.nz/event/charisma-meeting-5/2026-08-25/
LOCATION:The Salvation Army Centre\, 18 Allright Place\, Mt Wellington\, Auckland\, Auckland
CATEGORIES:Weekly Meeting
GEO:-36.9111846;174.8482583
X-APPLE-STRUCTURED-LOCATION;VALUE=URI;X-ADDRESS=The Salvation Army Centre 18 Allright Place Mt Wellington Auckland Auckland;X-APPLE-RADIUS=500;X-TITLE=18 Allright Place\, Mt Wellington:geo:174.8482583,-36.9111846
END:VEVENT
BEGIN:VEVENT
DTSTART;TZID=Pacific/Auckland:20260901T190000
DTEND;TZID=Pacific/Auckland:20260901T210000
DTSTAMP:20260420T084127
CREATED:20150331T010205Z
LAST-MODIFIED:20150331T010205Z
UID:2589-1788289200-1788296400@www.charisma.org.nz
SUMMARY:Charisma Healing & Deliverance Meeting
DESCRIPTION:
URL:https://www.charisma.org.nz/event/charisma-meeting-5/2026-09-01/
LOCATION:The Salvation Army Centre\, 18 Allright Place\, Mt Wellington\, Auckland\, Auckland
CATEGORIES:Weekly Meeting
GEO:-36.9111846;174.8482583
X-APPLE-STRUCTURED-LOCATION;VALUE=URI;X-ADDRESS=The Salvation Army Centre 18 Allright Place Mt Wellington Auckland Auckland;X-APPLE-RADIUS=500;X-TITLE=18 Allright Place\, Mt Wellington:geo:174.8482583,-36.9111846
END:VEVENT
BEGIN:VEVENT
DTSTART;TZID=Pacific/Auckland:20260908T190000
DTEND;TZID=Pacific/Auckland:20260908T210000
DTSTAMP:20260420T084127
CREATED:20150331T010205Z
LAST-MODIFIED:20150331T010205Z
UID:2590-1788894000-1788901200@www.charisma.org.nz
SUMMARY:Charisma Healing & Deliverance Meeting
DESCRIPTION:
URL:https://www.charisma.org.nz/event/charisma-meeting-5/2026-09-08/
LOCATION:The Salvation Army Centre\, 18 Allright Place\, Mt Wellington\, Auckland\, Auckland
CATEGORIES:Weekly Meeting
GEO:-36.9111846;174.8482583
X-APPLE-STRUCTURED-LOCATION;VALUE=URI;X-ADDRESS=The Salvation Army Centre 18 Allright Place Mt Wellington Auckland Auckland;X-APPLE-RADIUS=500;X-TITLE=18 Allright Place\, Mt Wellington:geo:174.8482583,-36.9111846
END:VEVENT
BEGIN:VEVENT
DTSTART;TZID=Pacific/Auckland:20260915T190000
DTEND;TZID=Pacific/Auckland:20260915T210000
DTSTAMP:20260420T084127
CREATED:20150331T010205Z
LAST-MODIFIED:20150331T010205Z
UID:2591-1789498800-1789506000@www.charisma.org.nz
SUMMARY:Charisma Healing & Deliverance Meeting
DESCRIPTION:
URL:https://www.charisma.org.nz/event/charisma-meeting-5/2026-09-15/
LOCATION:The Salvation Army Centre\, 18 Allright Place\, Mt Wellington\, Auckland\, Auckland
CATEGORIES:Weekly Meeting
GEO:-36.9111846;174.8482583
X-APPLE-STRUCTURED-LOCATION;VALUE=URI;X-ADDRESS=The Salvation Army Centre 18 Allright Place Mt Wellington Auckland Auckland;X-APPLE-RADIUS=500;X-TITLE=18 Allright Place\, Mt Wellington:geo:174.8482583,-36.9111846
END:VEVENT
BEGIN:VEVENT
DTSTART;TZID=Pacific/Auckland:20260922T190000
DTEND;TZID=Pacific/Auckland:20260922T210000
DTSTAMP:20260420T084127
CREATED:20150331T010205Z
LAST-MODIFIED:20150331T010205Z
UID:2592-1790103600-1790110800@www.charisma.org.nz
SUMMARY:Charisma Healing & Deliverance Meeting
DESCRIPTION:
URL:https://www.charisma.org.nz/event/charisma-meeting-5/2026-09-22/
LOCATION:The Salvation Army Centre\, 18 Allright Place\, Mt Wellington\, Auckland\, Auckland
CATEGORIES:Weekly Meeting
GEO:-36.9111846;174.8482583
X-APPLE-STRUCTURED-LOCATION;VALUE=URI;X-ADDRESS=The Salvation Army Centre 18 Allright Place Mt Wellington Auckland Auckland;X-APPLE-RADIUS=500;X-TITLE=18 Allright Place\, Mt Wellington:geo:174.8482583,-36.9111846
END:VEVENT
BEGIN:VEVENT
DTSTART;TZID=Pacific/Auckland:20260929T190000
DTEND;TZID=Pacific/Auckland:20260929T210000
DTSTAMP:20260420T084127
CREATED:20150331T010205Z
LAST-MODIFIED:20150331T010205Z
UID:2593-1790708400-1790715600@www.charisma.org.nz
SUMMARY:Charisma Healing & Deliverance Meeting
DESCRIPTION:
URL:https://www.charisma.org.nz/event/charisma-meeting-5/2026-09-29/
LOCATION:The Salvation Army Centre\, 18 Allright Place\, Mt Wellington\, Auckland\, Auckland
CATEGORIES:Weekly Meeting
GEO:-36.9111846;174.8482583
X-APPLE-STRUCTURED-LOCATION;VALUE=URI;X-ADDRESS=The Salvation Army Centre 18 Allright Place Mt Wellington Auckland Auckland;X-APPLE-RADIUS=500;X-TITLE=18 Allright Place\, Mt Wellington:geo:174.8482583,-36.9111846
END:VEVENT
BEGIN:VEVENT
DTSTART;TZID=Pacific/Auckland:20261006T190000
DTEND;TZID=Pacific/Auckland:20261006T210000
DTSTAMP:20260420T084127
CREATED:20150331T010205Z
LAST-MODIFIED:20150331T010205Z
UID:2594-1791313200-1791320400@www.charisma.org.nz
SUMMARY:Charisma Healing & Deliverance Meeting
DESCRIPTION:
URL:https://www.charisma.org.nz/event/charisma-meeting-5/2026-10-06/
LOCATION:The Salvation Army Centre\, 18 Allright Place\, Mt Wellington\, Auckland\, Auckland
CATEGORIES:Weekly Meeting
GEO:-36.9111846;174.8482583
X-APPLE-STRUCTURED-LOCATION;VALUE=URI;X-ADDRESS=The Salvation Army Centre 18 Allright Place Mt Wellington Auckland Auckland;X-APPLE-RADIUS=500;X-TITLE=18 Allright Place\, Mt Wellington:geo:174.8482583,-36.9111846
END:VEVENT
BEGIN:VEVENT
DTSTART;TZID=Pacific/Auckland:20261013T190000
DTEND;TZID=Pacific/Auckland:20261013T210000
DTSTAMP:20260420T084127
CREATED:20150331T010205Z
LAST-MODIFIED:20150331T010205Z
UID:2595-1791918000-1791925200@www.charisma.org.nz
SUMMARY:Charisma Healing & Deliverance Meeting
DESCRIPTION:
URL:https://www.charisma.org.nz/event/charisma-meeting-5/2026-10-13/
LOCATION:The Salvation Army Centre\, 18 Allright Place\, Mt Wellington\, Auckland\, Auckland
CATEGORIES:Weekly Meeting
GEO:-36.9111846;174.8482583
X-APPLE-STRUCTURED-LOCATION;VALUE=URI;X-ADDRESS=The Salvation Army Centre 18 Allright Place Mt Wellington Auckland Auckland;X-APPLE-RADIUS=500;X-TITLE=18 Allright Place\, Mt Wellington:geo:174.8482583,-36.9111846
END:VEVENT
BEGIN:VEVENT
DTSTART;TZID=Pacific/Auckland:20261020T190000
DTEND;TZID=Pacific/Auckland:20261020T210000
DTSTAMP:20260420T084127
CREATED:20150331T010205Z
LAST-MODIFIED:20150331T010205Z
UID:2596-1792522800-1792530000@www.charisma.org.nz
SUMMARY:Charisma Healing & Deliverance Meeting
DESCRIPTION:
URL:https://www.charisma.org.nz/event/charisma-meeting-5/2026-10-20/
LOCATION:The Salvation Army Centre\, 18 Allright Place\, Mt Wellington\, Auckland\, Auckland
CATEGORIES:Weekly Meeting
GEO:-36.9111846;174.8482583
X-APPLE-STRUCTURED-LOCATION;VALUE=URI;X-ADDRESS=The Salvation Army Centre 18 Allright Place Mt Wellington Auckland Auckland;X-APPLE-RADIUS=500;X-TITLE=18 Allright Place\, Mt Wellington:geo:174.8482583,-36.9111846
END:VEVENT
BEGIN:VEVENT
DTSTART;TZID=Pacific/Auckland:20261027T190000
DTEND;TZID=Pacific/Auckland:20261027T210000
DTSTAMP:20260420T084127
CREATED:20150331T010205Z
LAST-MODIFIED:20150331T010205Z
UID:2597-1793127600-1793134800@www.charisma.org.nz
SUMMARY:Charisma Healing & Deliverance Meeting
DESCRIPTION:
URL:https://www.charisma.org.nz/event/charisma-meeting-5/2026-10-27/
LOCATION:The Salvation Army Centre\, 18 Allright Place\, Mt Wellington\, Auckland\, Auckland
CATEGORIES:Weekly Meeting
GEO:-36.9111846;174.8482583
X-APPLE-STRUCTURED-LOCATION;VALUE=URI;X-ADDRESS=The Salvation Army Centre 18 Allright Place Mt Wellington Auckland Auckland;X-APPLE-RADIUS=500;X-TITLE=18 Allright Place\, Mt Wellington:geo:174.8482583,-36.9111846
END:VEVENT
BEGIN:VEVENT
DTSTART;TZID=Pacific/Auckland:20261103T190000
DTEND;TZID=Pacific/Auckland:20261103T210000
DTSTAMP:20260420T084127
CREATED:20150331T010205Z
LAST-MODIFIED:20150331T010205Z
UID:2598-1793732400-1793739600@www.charisma.org.nz
SUMMARY:Charisma Healing & Deliverance Meeting
DESCRIPTION:
URL:https://www.charisma.org.nz/event/charisma-meeting-5/2026-11-03/
LOCATION:The Salvation Army Centre\, 18 Allright Place\, Mt Wellington\, Auckland\, Auckland
CATEGORIES:Weekly Meeting
GEO:-36.9111846;174.8482583
X-APPLE-STRUCTURED-LOCATION;VALUE=URI;X-ADDRESS=The Salvation Army Centre 18 Allright Place Mt Wellington Auckland Auckland;X-APPLE-RADIUS=500;X-TITLE=18 Allright Place\, Mt Wellington:geo:174.8482583,-36.9111846
END:VEVENT
BEGIN:VEVENT
DTSTART;TZID=Pacific/Auckland:20261110T190000
DTEND;TZID=Pacific/Auckland:20261110T210000
DTSTAMP:20260420T084127
CREATED:20150331T010205Z
LAST-MODIFIED:20150331T010205Z
UID:2599-1794337200-1794344400@www.charisma.org.nz
SUMMARY:Charisma Healing & Deliverance Meeting
DESCRIPTION:
URL:https://www.charisma.org.nz/event/charisma-meeting-5/2026-11-10/
LOCATION:The Salvation Army Centre\, 18 Allright Place\, Mt Wellington\, Auckland\, Auckland
CATEGORIES:Weekly Meeting
GEO:-36.9111846;174.8482583
X-APPLE-STRUCTURED-LOCATION;VALUE=URI;X-ADDRESS=The Salvation Army Centre 18 Allright Place Mt Wellington Auckland Auckland;X-APPLE-RADIUS=500;X-TITLE=18 Allright Place\, Mt Wellington:geo:174.8482583,-36.9111846
END:VEVENT
END:VCALENDAR