BEGIN:VCALENDAR
VERSION:2.0
PRODID:-//Charisma Christian Ministries - ECPv5.16.3.1//NONSGML v1.0//EN
CALSCALE:GREGORIAN
METHOD:PUBLISH
X-ORIGINAL-URL:https://www.charisma.org.nz
X-WR-CALDESC:Events for Charisma Christian Ministries
REFRESH-INTERVAL;VALUE=DURATION:PT1H
X-Robots-Tag:noindex
X-PUBLISHED-TTL:PT1H
BEGIN:VTIMEZONE
TZID:Pacific/Auckland
BEGIN:STANDARD
TZOFFSETFROM:+1300
TZOFFSETTO:+1200
TZNAME:NZST
DTSTART:20270403T140000
END:STANDARD
BEGIN:DAYLIGHT
TZOFFSETFROM:+1200
TZOFFSETTO:+1300
TZNAME:NZDT
DTSTART:20270925T140000
END:DAYLIGHT
END:VTIMEZONE
BEGIN:VEVENT
DTSTART;TZID=Pacific/Auckland:20270202T190000
DTEND;TZID=Pacific/Auckland:20270202T210000
DTSTAMP:20260422T220942
CREATED:20150331T010205Z
LAST-MODIFIED:20150331T010205Z
UID:2611-1801594800-1801602000@www.charisma.org.nz
SUMMARY:Charisma Healing & Deliverance Meeting
DESCRIPTION:
URL:https://www.charisma.org.nz/event/charisma-meeting-5/2027-02-02/
LOCATION:The Salvation Army Centre\, 18 Allright Place\, Mt Wellington\, Auckland\, Auckland
CATEGORIES:Weekly Meeting
GEO:-36.9111846;174.8482583
X-APPLE-STRUCTURED-LOCATION;VALUE=URI;X-ADDRESS=The Salvation Army Centre 18 Allright Place Mt Wellington Auckland Auckland;X-APPLE-RADIUS=500;X-TITLE=18 Allright Place\, Mt Wellington:geo:174.8482583,-36.9111846
END:VEVENT
BEGIN:VEVENT
DTSTART;TZID=Pacific/Auckland:20270209T190000
DTEND;TZID=Pacific/Auckland:20270209T210000
DTSTAMP:20260422T220942
CREATED:20150331T010205Z
LAST-MODIFIED:20150331T010205Z
UID:2612-1802199600-1802206800@www.charisma.org.nz
SUMMARY:Charisma Healing & Deliverance Meeting
DESCRIPTION:
URL:https://www.charisma.org.nz/event/charisma-meeting-5/2027-02-09/
LOCATION:The Salvation Army Centre\, 18 Allright Place\, Mt Wellington\, Auckland\, Auckland
CATEGORIES:Weekly Meeting
GEO:-36.9111846;174.8482583
X-APPLE-STRUCTURED-LOCATION;VALUE=URI;X-ADDRESS=The Salvation Army Centre 18 Allright Place Mt Wellington Auckland Auckland;X-APPLE-RADIUS=500;X-TITLE=18 Allright Place\, Mt Wellington:geo:174.8482583,-36.9111846
END:VEVENT
BEGIN:VEVENT
DTSTART;TZID=Pacific/Auckland:20270216T190000
DTEND;TZID=Pacific/Auckland:20270216T210000
DTSTAMP:20260422T220942
CREATED:20150331T010205Z
LAST-MODIFIED:20150331T010205Z
UID:2613-1802804400-1802811600@www.charisma.org.nz
SUMMARY:Charisma Healing & Deliverance Meeting
DESCRIPTION:
URL:https://www.charisma.org.nz/event/charisma-meeting-5/2027-02-16/
LOCATION:The Salvation Army Centre\, 18 Allright Place\, Mt Wellington\, Auckland\, Auckland
CATEGORIES:Weekly Meeting
GEO:-36.9111846;174.8482583
X-APPLE-STRUCTURED-LOCATION;VALUE=URI;X-ADDRESS=The Salvation Army Centre 18 Allright Place Mt Wellington Auckland Auckland;X-APPLE-RADIUS=500;X-TITLE=18 Allright Place\, Mt Wellington:geo:174.8482583,-36.9111846
END:VEVENT
BEGIN:VEVENT
DTSTART;TZID=Pacific/Auckland:20270223T190000
DTEND;TZID=Pacific/Auckland:20270223T210000
DTSTAMP:20260422T220942
CREATED:20150331T010205Z
LAST-MODIFIED:20150331T010205Z
UID:2614-1803409200-1803416400@www.charisma.org.nz
SUMMARY:Charisma Healing & Deliverance Meeting
DESCRIPTION:
URL:https://www.charisma.org.nz/event/charisma-meeting-5/2027-02-23/
LOCATION:The Salvation Army Centre\, 18 Allright Place\, Mt Wellington\, Auckland\, Auckland
CATEGORIES:Weekly Meeting
GEO:-36.9111846;174.8482583
X-APPLE-STRUCTURED-LOCATION;VALUE=URI;X-ADDRESS=The Salvation Army Centre 18 Allright Place Mt Wellington Auckland Auckland;X-APPLE-RADIUS=500;X-TITLE=18 Allright Place\, Mt Wellington:geo:174.8482583,-36.9111846
END:VEVENT
BEGIN:VEVENT
DTSTART;TZID=Pacific/Auckland:20270302T190000
DTEND;TZID=Pacific/Auckland:20270302T210000
DTSTAMP:20260422T220942
CREATED:20150331T010205Z
LAST-MODIFIED:20150331T010205Z
UID:2615-1804014000-1804021200@www.charisma.org.nz
SUMMARY:Charisma Healing & Deliverance Meeting
DESCRIPTION:
URL:https://www.charisma.org.nz/event/charisma-meeting-5/2027-03-02/
LOCATION:The Salvation Army Centre\, 18 Allright Place\, Mt Wellington\, Auckland\, Auckland
CATEGORIES:Weekly Meeting
GEO:-36.9111846;174.8482583
X-APPLE-STRUCTURED-LOCATION;VALUE=URI;X-ADDRESS=The Salvation Army Centre 18 Allright Place Mt Wellington Auckland Auckland;X-APPLE-RADIUS=500;X-TITLE=18 Allright Place\, Mt Wellington:geo:174.8482583,-36.9111846
END:VEVENT
BEGIN:VEVENT
DTSTART;TZID=Pacific/Auckland:20270309T190000
DTEND;TZID=Pacific/Auckland:20270309T210000
DTSTAMP:20260422T220942
CREATED:20150331T010205Z
LAST-MODIFIED:20150331T010205Z
UID:2616-1804618800-1804626000@www.charisma.org.nz
SUMMARY:Charisma Healing & Deliverance Meeting
DESCRIPTION:
URL:https://www.charisma.org.nz/event/charisma-meeting-5/2027-03-09/
LOCATION:The Salvation Army Centre\, 18 Allright Place\, Mt Wellington\, Auckland\, Auckland
CATEGORIES:Weekly Meeting
GEO:-36.9111846;174.8482583
X-APPLE-STRUCTURED-LOCATION;VALUE=URI;X-ADDRESS=The Salvation Army Centre 18 Allright Place Mt Wellington Auckland Auckland;X-APPLE-RADIUS=500;X-TITLE=18 Allright Place\, Mt Wellington:geo:174.8482583,-36.9111846
END:VEVENT
BEGIN:VEVENT
DTSTART;TZID=Pacific/Auckland:20270316T190000
DTEND;TZID=Pacific/Auckland:20270316T210000
DTSTAMP:20260422T220942
CREATED:20150331T010205Z
LAST-MODIFIED:20150331T010205Z
UID:2617-1805223600-1805230800@www.charisma.org.nz
SUMMARY:Charisma Healing & Deliverance Meeting
DESCRIPTION:
URL:https://www.charisma.org.nz/event/charisma-meeting-5/2027-03-16/
LOCATION:The Salvation Army Centre\, 18 Allright Place\, Mt Wellington\, Auckland\, Auckland
CATEGORIES:Weekly Meeting
GEO:-36.9111846;174.8482583
X-APPLE-STRUCTURED-LOCATION;VALUE=URI;X-ADDRESS=The Salvation Army Centre 18 Allright Place Mt Wellington Auckland Auckland;X-APPLE-RADIUS=500;X-TITLE=18 Allright Place\, Mt Wellington:geo:174.8482583,-36.9111846
END:VEVENT
BEGIN:VEVENT
DTSTART;TZID=Pacific/Auckland:20270323T190000
DTEND;TZID=Pacific/Auckland:20270323T210000
DTSTAMP:20260422T220942
CREATED:20150331T010205Z
LAST-MODIFIED:20150331T010205Z
UID:2618-1805828400-1805835600@www.charisma.org.nz
SUMMARY:Charisma Healing & Deliverance Meeting
DESCRIPTION:
URL:https://www.charisma.org.nz/event/charisma-meeting-5/2027-03-23/
LOCATION:The Salvation Army Centre\, 18 Allright Place\, Mt Wellington\, Auckland\, Auckland
CATEGORIES:Weekly Meeting
GEO:-36.9111846;174.8482583
X-APPLE-STRUCTURED-LOCATION;VALUE=URI;X-ADDRESS=The Salvation Army Centre 18 Allright Place Mt Wellington Auckland Auckland;X-APPLE-RADIUS=500;X-TITLE=18 Allright Place\, Mt Wellington:geo:174.8482583,-36.9111846
END:VEVENT
BEGIN:VEVENT
DTSTART;TZID=Pacific/Auckland:20270330T190000
DTEND;TZID=Pacific/Auckland:20270330T210000
DTSTAMP:20260422T220942
CREATED:20150331T010205Z
LAST-MODIFIED:20150331T010205Z
UID:2620-1806433200-1806440400@www.charisma.org.nz
SUMMARY:Charisma Healing & Deliverance Meeting
DESCRIPTION:
URL:https://www.charisma.org.nz/event/charisma-meeting-5/2027-03-30/
LOCATION:The Salvation Army Centre\, 18 Allright Place\, Mt Wellington\, Auckland\, Auckland
CATEGORIES:Weekly Meeting
GEO:-36.9111846;174.8482583
X-APPLE-STRUCTURED-LOCATION;VALUE=URI;X-ADDRESS=The Salvation Army Centre 18 Allright Place Mt Wellington Auckland Auckland;X-APPLE-RADIUS=500;X-TITLE=18 Allright Place\, Mt Wellington:geo:174.8482583,-36.9111846
END:VEVENT
BEGIN:VEVENT
DTSTART;TZID=Pacific/Auckland:20270406T190000
DTEND;TZID=Pacific/Auckland:20270406T210000
DTSTAMP:20260422T220942
CREATED:20150331T010205Z
LAST-MODIFIED:20150331T010205Z
UID:2621-1807038000-1807045200@www.charisma.org.nz
SUMMARY:Charisma Healing & Deliverance Meeting
DESCRIPTION:
URL:https://www.charisma.org.nz/event/charisma-meeting-5/2027-04-06/
LOCATION:The Salvation Army Centre\, 18 Allright Place\, Mt Wellington\, Auckland\, Auckland
CATEGORIES:Weekly Meeting
GEO:-36.9111846;174.8482583
X-APPLE-STRUCTURED-LOCATION;VALUE=URI;X-ADDRESS=The Salvation Army Centre 18 Allright Place Mt Wellington Auckland Auckland;X-APPLE-RADIUS=500;X-TITLE=18 Allright Place\, Mt Wellington:geo:174.8482583,-36.9111846
END:VEVENT
BEGIN:VEVENT
DTSTART;TZID=Pacific/Auckland:20270413T190000
DTEND;TZID=Pacific/Auckland:20270413T210000
DTSTAMP:20260422T220942
CREATED:20150331T010205Z
LAST-MODIFIED:20150331T010205Z
UID:2622-1807642800-1807650000@www.charisma.org.nz
SUMMARY:Charisma Healing & Deliverance Meeting
DESCRIPTION:
URL:https://www.charisma.org.nz/event/charisma-meeting-5/2027-04-13/
LOCATION:The Salvation Army Centre\, 18 Allright Place\, Mt Wellington\, Auckland\, Auckland
CATEGORIES:Weekly Meeting
GEO:-36.9111846;174.8482583
X-APPLE-STRUCTURED-LOCATION;VALUE=URI;X-ADDRESS=The Salvation Army Centre 18 Allright Place Mt Wellington Auckland Auckland;X-APPLE-RADIUS=500;X-TITLE=18 Allright Place\, Mt Wellington:geo:174.8482583,-36.9111846
END:VEVENT
BEGIN:VEVENT
DTSTART;TZID=Pacific/Auckland:20270420T190000
DTEND;TZID=Pacific/Auckland:20270420T210000
DTSTAMP:20260422T220942
CREATED:20150331T010205Z
LAST-MODIFIED:20150331T010205Z
UID:2623-1808247600-1808254800@www.charisma.org.nz
SUMMARY:Charisma Healing & Deliverance Meeting
DESCRIPTION:
URL:https://www.charisma.org.nz/event/charisma-meeting-5/2027-04-20/
LOCATION:The Salvation Army Centre\, 18 Allright Place\, Mt Wellington\, Auckland\, Auckland
CATEGORIES:Weekly Meeting
GEO:-36.9111846;174.8482583
X-APPLE-STRUCTURED-LOCATION;VALUE=URI;X-ADDRESS=The Salvation Army Centre 18 Allright Place Mt Wellington Auckland Auckland;X-APPLE-RADIUS=500;X-TITLE=18 Allright Place\, Mt Wellington:geo:174.8482583,-36.9111846
END:VEVENT
BEGIN:VEVENT
DTSTART;TZID=Pacific/Auckland:20270427T190000
DTEND;TZID=Pacific/Auckland:20270427T210000
DTSTAMP:20260422T220942
CREATED:20150331T010205Z
LAST-MODIFIED:20150331T010205Z
UID:2624-1808852400-1808859600@www.charisma.org.nz
SUMMARY:Charisma Healing & Deliverance Meeting
DESCRIPTION:
URL:https://www.charisma.org.nz/event/charisma-meeting-5/2027-04-27/
LOCATION:The Salvation Army Centre\, 18 Allright Place\, Mt Wellington\, Auckland\, Auckland
CATEGORIES:Weekly Meeting
GEO:-36.9111846;174.8482583
X-APPLE-STRUCTURED-LOCATION;VALUE=URI;X-ADDRESS=The Salvation Army Centre 18 Allright Place Mt Wellington Auckland Auckland;X-APPLE-RADIUS=500;X-TITLE=18 Allright Place\, Mt Wellington:geo:174.8482583,-36.9111846
END:VEVENT
BEGIN:VEVENT
DTSTART;TZID=Pacific/Auckland:20270504T190000
DTEND;TZID=Pacific/Auckland:20270504T210000
DTSTAMP:20260422T220942
CREATED:20150331T010205Z
LAST-MODIFIED:20150331T010205Z
UID:2625-1809457200-1809464400@www.charisma.org.nz
SUMMARY:Charisma Healing & Deliverance Meeting
DESCRIPTION:
URL:https://www.charisma.org.nz/event/charisma-meeting-5/2027-05-04/
LOCATION:The Salvation Army Centre\, 18 Allright Place\, Mt Wellington\, Auckland\, Auckland
CATEGORIES:Weekly Meeting
GEO:-36.9111846;174.8482583
X-APPLE-STRUCTURED-LOCATION;VALUE=URI;X-ADDRESS=The Salvation Army Centre 18 Allright Place Mt Wellington Auckland Auckland;X-APPLE-RADIUS=500;X-TITLE=18 Allright Place\, Mt Wellington:geo:174.8482583,-36.9111846
END:VEVENT
BEGIN:VEVENT
DTSTART;TZID=Pacific/Auckland:20270511T190000
DTEND;TZID=Pacific/Auckland:20270511T210000
DTSTAMP:20260422T220942
CREATED:20150331T010205Z
LAST-MODIFIED:20150331T010205Z
UID:2626-1810062000-1810069200@www.charisma.org.nz
SUMMARY:Charisma Healing & Deliverance Meeting
DESCRIPTION:
URL:https://www.charisma.org.nz/event/charisma-meeting-5/2027-05-11/
LOCATION:The Salvation Army Centre\, 18 Allright Place\, Mt Wellington\, Auckland\, Auckland
CATEGORIES:Weekly Meeting
GEO:-36.9111846;174.8482583
X-APPLE-STRUCTURED-LOCATION;VALUE=URI;X-ADDRESS=The Salvation Army Centre 18 Allright Place Mt Wellington Auckland Auckland;X-APPLE-RADIUS=500;X-TITLE=18 Allright Place\, Mt Wellington:geo:174.8482583,-36.9111846
END:VEVENT
BEGIN:VEVENT
DTSTART;TZID=Pacific/Auckland:20270518T190000
DTEND;TZID=Pacific/Auckland:20270518T210000
DTSTAMP:20260422T220942
CREATED:20150331T010205Z
LAST-MODIFIED:20150331T010205Z
UID:2627-1810666800-1810674000@www.charisma.org.nz
SUMMARY:Charisma Healing & Deliverance Meeting
DESCRIPTION:
URL:https://www.charisma.org.nz/event/charisma-meeting-5/2027-05-18/
LOCATION:The Salvation Army Centre\, 18 Allright Place\, Mt Wellington\, Auckland\, Auckland
CATEGORIES:Weekly Meeting
GEO:-36.9111846;174.8482583
X-APPLE-STRUCTURED-LOCATION;VALUE=URI;X-ADDRESS=The Salvation Army Centre 18 Allright Place Mt Wellington Auckland Auckland;X-APPLE-RADIUS=500;X-TITLE=18 Allright Place\, Mt Wellington:geo:174.8482583,-36.9111846
END:VEVENT
BEGIN:VEVENT
DTSTART;TZID=Pacific/Auckland:20270525T190000
DTEND;TZID=Pacific/Auckland:20270525T210000
DTSTAMP:20260422T220942
CREATED:20150331T010205Z
LAST-MODIFIED:20150331T010205Z
UID:2628-1811271600-1811278800@www.charisma.org.nz
SUMMARY:Charisma Healing & Deliverance Meeting
DESCRIPTION:
URL:https://www.charisma.org.nz/event/charisma-meeting-5/2027-05-25/
LOCATION:The Salvation Army Centre\, 18 Allright Place\, Mt Wellington\, Auckland\, Auckland
CATEGORIES:Weekly Meeting
GEO:-36.9111846;174.8482583
X-APPLE-STRUCTURED-LOCATION;VALUE=URI;X-ADDRESS=The Salvation Army Centre 18 Allright Place Mt Wellington Auckland Auckland;X-APPLE-RADIUS=500;X-TITLE=18 Allright Place\, Mt Wellington:geo:174.8482583,-36.9111846
END:VEVENT
BEGIN:VEVENT
DTSTART;TZID=Pacific/Auckland:20270601T190000
DTEND;TZID=Pacific/Auckland:20270601T210000
DTSTAMP:20260422T220942
CREATED:20150331T010205Z
LAST-MODIFIED:20150331T010205Z
UID:2629-1811876400-1811883600@www.charisma.org.nz
SUMMARY:Charisma Healing & Deliverance Meeting
DESCRIPTION:
URL:https://www.charisma.org.nz/event/charisma-meeting-5/2027-06-01/
LOCATION:The Salvation Army Centre\, 18 Allright Place\, Mt Wellington\, Auckland\, Auckland
CATEGORIES:Weekly Meeting
GEO:-36.9111846;174.8482583
X-APPLE-STRUCTURED-LOCATION;VALUE=URI;X-ADDRESS=The Salvation Army Centre 18 Allright Place Mt Wellington Auckland Auckland;X-APPLE-RADIUS=500;X-TITLE=18 Allright Place\, Mt Wellington:geo:174.8482583,-36.9111846
END:VEVENT
BEGIN:VEVENT
DTSTART;TZID=Pacific/Auckland:20270608T190000
DTEND;TZID=Pacific/Auckland:20270608T210000
DTSTAMP:20260422T220942
CREATED:20150331T010205Z
LAST-MODIFIED:20150331T010205Z
UID:2630-1812481200-1812488400@www.charisma.org.nz
SUMMARY:Charisma Healing & Deliverance Meeting
DESCRIPTION:
URL:https://www.charisma.org.nz/event/charisma-meeting-5/2027-06-08/
LOCATION:The Salvation Army Centre\, 18 Allright Place\, Mt Wellington\, Auckland\, Auckland
CATEGORIES:Weekly Meeting
GEO:-36.9111846;174.8482583
X-APPLE-STRUCTURED-LOCATION;VALUE=URI;X-ADDRESS=The Salvation Army Centre 18 Allright Place Mt Wellington Auckland Auckland;X-APPLE-RADIUS=500;X-TITLE=18 Allright Place\, Mt Wellington:geo:174.8482583,-36.9111846
END:VEVENT
BEGIN:VEVENT
DTSTART;TZID=Pacific/Auckland:20270615T190000
DTEND;TZID=Pacific/Auckland:20270615T210000
DTSTAMP:20260422T220942
CREATED:20150331T010205Z
LAST-MODIFIED:20150331T010205Z
UID:2631-1813086000-1813093200@www.charisma.org.nz
SUMMARY:Charisma Healing & Deliverance Meeting
DESCRIPTION:
URL:https://www.charisma.org.nz/event/charisma-meeting-5/2027-06-15/
LOCATION:The Salvation Army Centre\, 18 Allright Place\, Mt Wellington\, Auckland\, Auckland
CATEGORIES:Weekly Meeting
GEO:-36.9111846;174.8482583
X-APPLE-STRUCTURED-LOCATION;VALUE=URI;X-ADDRESS=The Salvation Army Centre 18 Allright Place Mt Wellington Auckland Auckland;X-APPLE-RADIUS=500;X-TITLE=18 Allright Place\, Mt Wellington:geo:174.8482583,-36.9111846
END:VEVENT
BEGIN:VEVENT
DTSTART;TZID=Pacific/Auckland:20270622T190000
DTEND;TZID=Pacific/Auckland:20270622T210000
DTSTAMP:20260422T220942
CREATED:20150331T010205Z
LAST-MODIFIED:20150331T010205Z
UID:2632-1813690800-1813698000@www.charisma.org.nz
SUMMARY:Charisma Healing & Deliverance Meeting
DESCRIPTION:
URL:https://www.charisma.org.nz/event/charisma-meeting-5/2027-06-22/
LOCATION:The Salvation Army Centre\, 18 Allright Place\, Mt Wellington\, Auckland\, Auckland
CATEGORIES:Weekly Meeting
GEO:-36.9111846;174.8482583
X-APPLE-STRUCTURED-LOCATION;VALUE=URI;X-ADDRESS=The Salvation Army Centre 18 Allright Place Mt Wellington Auckland Auckland;X-APPLE-RADIUS=500;X-TITLE=18 Allright Place\, Mt Wellington:geo:174.8482583,-36.9111846
END:VEVENT
BEGIN:VEVENT
DTSTART;TZID=Pacific/Auckland:20270629T190000
DTEND;TZID=Pacific/Auckland:20270629T210000
DTSTAMP:20260422T220942
CREATED:20150331T010205Z
LAST-MODIFIED:20150331T010205Z
UID:2633-1814295600-1814302800@www.charisma.org.nz
SUMMARY:Charisma Healing & Deliverance Meeting
DESCRIPTION:
URL:https://www.charisma.org.nz/event/charisma-meeting-5/2027-06-29/
LOCATION:The Salvation Army Centre\, 18 Allright Place\, Mt Wellington\, Auckland\, Auckland
CATEGORIES:Weekly Meeting
GEO:-36.9111846;174.8482583
X-APPLE-STRUCTURED-LOCATION;VALUE=URI;X-ADDRESS=The Salvation Army Centre 18 Allright Place Mt Wellington Auckland Auckland;X-APPLE-RADIUS=500;X-TITLE=18 Allright Place\, Mt Wellington:geo:174.8482583,-36.9111846
END:VEVENT
BEGIN:VEVENT
DTSTART;TZID=Pacific/Auckland:20270706T190000
DTEND;TZID=Pacific/Auckland:20270706T210000
DTSTAMP:20260422T220942
CREATED:20150331T010205Z
LAST-MODIFIED:20150331T010205Z
UID:2634-1814900400-1814907600@www.charisma.org.nz
SUMMARY:Charisma Healing & Deliverance Meeting
DESCRIPTION:
URL:https://www.charisma.org.nz/event/charisma-meeting-5/2027-07-06/
LOCATION:The Salvation Army Centre\, 18 Allright Place\, Mt Wellington\, Auckland\, Auckland
CATEGORIES:Weekly Meeting
GEO:-36.9111846;174.8482583
X-APPLE-STRUCTURED-LOCATION;VALUE=URI;X-ADDRESS=The Salvation Army Centre 18 Allright Place Mt Wellington Auckland Auckland;X-APPLE-RADIUS=500;X-TITLE=18 Allright Place\, Mt Wellington:geo:174.8482583,-36.9111846
END:VEVENT
BEGIN:VEVENT
DTSTART;TZID=Pacific/Auckland:20270713T190000
DTEND;TZID=Pacific/Auckland:20270713T210000
DTSTAMP:20260422T220942
CREATED:20150331T010205Z
LAST-MODIFIED:20150331T010205Z
UID:2635-1815505200-1815512400@www.charisma.org.nz
SUMMARY:Charisma Healing & Deliverance Meeting
DESCRIPTION:
URL:https://www.charisma.org.nz/event/charisma-meeting-5/2027-07-13/
LOCATION:The Salvation Army Centre\, 18 Allright Place\, Mt Wellington\, Auckland\, Auckland
CATEGORIES:Weekly Meeting
GEO:-36.9111846;174.8482583
X-APPLE-STRUCTURED-LOCATION;VALUE=URI;X-ADDRESS=The Salvation Army Centre 18 Allright Place Mt Wellington Auckland Auckland;X-APPLE-RADIUS=500;X-TITLE=18 Allright Place\, Mt Wellington:geo:174.8482583,-36.9111846
END:VEVENT
BEGIN:VEVENT
DTSTART;TZID=Pacific/Auckland:20270720T190000
DTEND;TZID=Pacific/Auckland:20270720T210000
DTSTAMP:20260422T220942
CREATED:20150331T010205Z
LAST-MODIFIED:20150331T010205Z
UID:2636-1816110000-1816117200@www.charisma.org.nz
SUMMARY:Charisma Healing & Deliverance Meeting
DESCRIPTION:
URL:https://www.charisma.org.nz/event/charisma-meeting-5/2027-07-20/
LOCATION:The Salvation Army Centre\, 18 Allright Place\, Mt Wellington\, Auckland\, Auckland
CATEGORIES:Weekly Meeting
GEO:-36.9111846;174.8482583
X-APPLE-STRUCTURED-LOCATION;VALUE=URI;X-ADDRESS=The Salvation Army Centre 18 Allright Place Mt Wellington Auckland Auckland;X-APPLE-RADIUS=500;X-TITLE=18 Allright Place\, Mt Wellington:geo:174.8482583,-36.9111846
END:VEVENT
BEGIN:VEVENT
DTSTART;TZID=Pacific/Auckland:20270727T190000
DTEND;TZID=Pacific/Auckland:20270727T210000
DTSTAMP:20260422T220942
CREATED:20150331T010205Z
LAST-MODIFIED:20150331T010205Z
UID:2637-1816714800-1816722000@www.charisma.org.nz
SUMMARY:Charisma Healing & Deliverance Meeting
DESCRIPTION:
URL:https://www.charisma.org.nz/event/charisma-meeting-5/2027-07-27/
LOCATION:The Salvation Army Centre\, 18 Allright Place\, Mt Wellington\, Auckland\, Auckland
CATEGORIES:Weekly Meeting
GEO:-36.9111846;174.8482583
X-APPLE-STRUCTURED-LOCATION;VALUE=URI;X-ADDRESS=The Salvation Army Centre 18 Allright Place Mt Wellington Auckland Auckland;X-APPLE-RADIUS=500;X-TITLE=18 Allright Place\, Mt Wellington:geo:174.8482583,-36.9111846
END:VEVENT
BEGIN:VEVENT
DTSTART;TZID=Pacific/Auckland:20270803T190000
DTEND;TZID=Pacific/Auckland:20270803T210000
DTSTAMP:20260422T220942
CREATED:20150331T010205Z
LAST-MODIFIED:20150331T010205Z
UID:2638-1817319600-1817326800@www.charisma.org.nz
SUMMARY:Charisma Healing & Deliverance Meeting
DESCRIPTION:
URL:https://www.charisma.org.nz/event/charisma-meeting-5/2027-08-03/
LOCATION:The Salvation Army Centre\, 18 Allright Place\, Mt Wellington\, Auckland\, Auckland
CATEGORIES:Weekly Meeting
GEO:-36.9111846;174.8482583
X-APPLE-STRUCTURED-LOCATION;VALUE=URI;X-ADDRESS=The Salvation Army Centre 18 Allright Place Mt Wellington Auckland Auckland;X-APPLE-RADIUS=500;X-TITLE=18 Allright Place\, Mt Wellington:geo:174.8482583,-36.9111846
END:VEVENT
BEGIN:VEVENT
DTSTART;TZID=Pacific/Auckland:20270810T190000
DTEND;TZID=Pacific/Auckland:20270810T210000
DTSTAMP:20260422T220942
CREATED:20150331T010205Z
LAST-MODIFIED:20150331T010205Z
UID:2639-1817924400-1817931600@www.charisma.org.nz
SUMMARY:Charisma Healing & Deliverance Meeting
DESCRIPTION:
URL:https://www.charisma.org.nz/event/charisma-meeting-5/2027-08-10/
LOCATION:The Salvation Army Centre\, 18 Allright Place\, Mt Wellington\, Auckland\, Auckland
CATEGORIES:Weekly Meeting
GEO:-36.9111846;174.8482583
X-APPLE-STRUCTURED-LOCATION;VALUE=URI;X-ADDRESS=The Salvation Army Centre 18 Allright Place Mt Wellington Auckland Auckland;X-APPLE-RADIUS=500;X-TITLE=18 Allright Place\, Mt Wellington:geo:174.8482583,-36.9111846
END:VEVENT
BEGIN:VEVENT
DTSTART;TZID=Pacific/Auckland:20270817T190000
DTEND;TZID=Pacific/Auckland:20270817T210000
DTSTAMP:20260422T220942
CREATED:20150331T010205Z
LAST-MODIFIED:20150331T010205Z
UID:2640-1818529200-1818536400@www.charisma.org.nz
SUMMARY:Charisma Healing & Deliverance Meeting
DESCRIPTION:
URL:https://www.charisma.org.nz/event/charisma-meeting-5/2027-08-17/
LOCATION:The Salvation Army Centre\, 18 Allright Place\, Mt Wellington\, Auckland\, Auckland
CATEGORIES:Weekly Meeting
GEO:-36.9111846;174.8482583
X-APPLE-STRUCTURED-LOCATION;VALUE=URI;X-ADDRESS=The Salvation Army Centre 18 Allright Place Mt Wellington Auckland Auckland;X-APPLE-RADIUS=500;X-TITLE=18 Allright Place\, Mt Wellington:geo:174.8482583,-36.9111846
END:VEVENT
BEGIN:VEVENT
DTSTART;TZID=Pacific/Auckland:20270824T190000
DTEND;TZID=Pacific/Auckland:20270824T210000
DTSTAMP:20260422T220942
CREATED:20150331T010205Z
LAST-MODIFIED:20150331T010205Z
UID:2641-1819134000-1819141200@www.charisma.org.nz
SUMMARY:Charisma Healing & Deliverance Meeting
DESCRIPTION:
URL:https://www.charisma.org.nz/event/charisma-meeting-5/2027-08-24/
LOCATION:The Salvation Army Centre\, 18 Allright Place\, Mt Wellington\, Auckland\, Auckland
CATEGORIES:Weekly Meeting
GEO:-36.9111846;174.8482583
X-APPLE-STRUCTURED-LOCATION;VALUE=URI;X-ADDRESS=The Salvation Army Centre 18 Allright Place Mt Wellington Auckland Auckland;X-APPLE-RADIUS=500;X-TITLE=18 Allright Place\, Mt Wellington:geo:174.8482583,-36.9111846
END:VEVENT
END:VCALENDAR