BEGIN:VCALENDAR
VERSION:2.0
PRODID:-//Charisma Christian Ministries - ECPv5.16.3.1//NONSGML v1.0//EN
CALSCALE:GREGORIAN
METHOD:PUBLISH
X-ORIGINAL-URL:https://www.charisma.org.nz
X-WR-CALDESC:Events for Charisma Christian Ministries
REFRESH-INTERVAL;VALUE=DURATION:PT1H
X-Robots-Tag:noindex
X-PUBLISHED-TTL:PT1H
BEGIN:VTIMEZONE
TZID:Pacific/Auckland
BEGIN:STANDARD
TZOFFSETFROM:+1300
TZOFFSETTO:+1200
TZNAME:NZST
DTSTART:20280401T140000
END:STANDARD
BEGIN:DAYLIGHT
TZOFFSETFROM:+1200
TZOFFSETTO:+1300
TZNAME:NZDT
DTSTART:20280923T140000
END:DAYLIGHT
END:VTIMEZONE
BEGIN:VEVENT
DTSTART;TZID=Pacific/Auckland:20280328T190000
DTEND;TZID=Pacific/Auckland:20280328T210000
DTSTAMP:20260425T045557
CREATED:20150331T010205Z
LAST-MODIFIED:20150331T010205Z
UID:2674-1837882800-1837890000@www.charisma.org.nz
SUMMARY:Charisma Healing & Deliverance Meeting
DESCRIPTION:
URL:https://www.charisma.org.nz/event/charisma-meeting-5/2028-03-28/
LOCATION:The Salvation Army Centre\, 18 Allright Place\, Mt Wellington\, Auckland\, Auckland
CATEGORIES:Weekly Meeting
GEO:-36.9111846;174.8482583
X-APPLE-STRUCTURED-LOCATION;VALUE=URI;X-ADDRESS=The Salvation Army Centre 18 Allright Place Mt Wellington Auckland Auckland;X-APPLE-RADIUS=500;X-TITLE=18 Allright Place\, Mt Wellington:geo:174.8482583,-36.9111846
END:VEVENT
BEGIN:VEVENT
DTSTART;TZID=Pacific/Auckland:20280404T190000
DTEND;TZID=Pacific/Auckland:20280404T210000
DTSTAMP:20260425T045557
CREATED:20150331T010205Z
LAST-MODIFIED:20150331T010205Z
UID:2675-1838487600-1838494800@www.charisma.org.nz
SUMMARY:Charisma Healing & Deliverance Meeting
DESCRIPTION:
URL:https://www.charisma.org.nz/event/charisma-meeting-5/2028-04-04/
LOCATION:The Salvation Army Centre\, 18 Allright Place\, Mt Wellington\, Auckland\, Auckland
CATEGORIES:Weekly Meeting
GEO:-36.9111846;174.8482583
X-APPLE-STRUCTURED-LOCATION;VALUE=URI;X-ADDRESS=The Salvation Army Centre 18 Allright Place Mt Wellington Auckland Auckland;X-APPLE-RADIUS=500;X-TITLE=18 Allright Place\, Mt Wellington:geo:174.8482583,-36.9111846
END:VEVENT
BEGIN:VEVENT
DTSTART;TZID=Pacific/Auckland:20280411T190000
DTEND;TZID=Pacific/Auckland:20280411T210000
DTSTAMP:20260425T045557
CREATED:20150331T010205Z
LAST-MODIFIED:20150331T010205Z
UID:2676-1839092400-1839099600@www.charisma.org.nz
SUMMARY:Charisma Healing & Deliverance Meeting
DESCRIPTION:
URL:https://www.charisma.org.nz/event/charisma-meeting-5/2028-04-11/
LOCATION:The Salvation Army Centre\, 18 Allright Place\, Mt Wellington\, Auckland\, Auckland
CATEGORIES:Weekly Meeting
GEO:-36.9111846;174.8482583
X-APPLE-STRUCTURED-LOCATION;VALUE=URI;X-ADDRESS=The Salvation Army Centre 18 Allright Place Mt Wellington Auckland Auckland;X-APPLE-RADIUS=500;X-TITLE=18 Allright Place\, Mt Wellington:geo:174.8482583,-36.9111846
END:VEVENT
BEGIN:VEVENT
DTSTART;TZID=Pacific/Auckland:20280418T190000
DTEND;TZID=Pacific/Auckland:20280418T210000
DTSTAMP:20260425T045557
CREATED:20150331T010205Z
LAST-MODIFIED:20150331T010205Z
UID:2677-1839697200-1839704400@www.charisma.org.nz
SUMMARY:Charisma Healing & Deliverance Meeting
DESCRIPTION:
URL:https://www.charisma.org.nz/event/charisma-meeting-5/2028-04-18/
LOCATION:The Salvation Army Centre\, 18 Allright Place\, Mt Wellington\, Auckland\, Auckland
CATEGORIES:Weekly Meeting
GEO:-36.9111846;174.8482583
X-APPLE-STRUCTURED-LOCATION;VALUE=URI;X-ADDRESS=The Salvation Army Centre 18 Allright Place Mt Wellington Auckland Auckland;X-APPLE-RADIUS=500;X-TITLE=18 Allright Place\, Mt Wellington:geo:174.8482583,-36.9111846
END:VEVENT
END:VCALENDAR